Workbook

Sheet HK1
A1: NSRR_A1 | B1: NSRR_A2 | C1: NSRR_A3 | D1: NSRR_A4 | E1: NSRR_A5 | F1: NSRR_B1 | G1: NSRR_B2 | H1: NSRR_B3 | I1: NSRR_B4 | J1: NSRR_B5 | K1: NSRR_C1 | L1: NSRR_C2 | M1: NSRR_C3 | N1: NSRR_C4 | O1: NSRR_C5 | P1: NSRR_D1 | Q1: NSRR_D2 | R1: NSRR_D3 | S1: NSRR_D4 | T1: NSRR_D5 | U1: NSRR_E1 | V1: NSRR_E2 | W1: NSRR_E3 | X1: NSRR_E4 | Y1: NSRR_E5 | Z1: OPBK_A1 | AA1: OPBK_A2 | AB1: OPBK_A3 | AC1: OPBK_A4 | AD1: OPBK_A5 | AE1: OPBK_B1 | AF1: OPBK_B2 | AG1: OPBK_B3 | AH1: OPBK_B4 | AI1: OPBK_B5 | AJ1: OPBK_C1 | AK1: OPBK_C2 | AL1: OPBK_C3 | AM1: OPBK_C4 | AN1: OPBK_C5 | AO1: OPBK_D1 | AP1: OPBK_D2 | AQ1: OPBK_D3 | AR1: OPBK_D4 | AS1: OPBK_D5 | AT1: OPBK_E1 | AU1: OPBK_E2 | AV1: OPBK_E3 | AW1: OPBK_E4 | AX1: OPBK_E5 | AY1: ROP_A1 | AZ1: ROP_A2 | BA1: ROP_A3 | BB1: ROP_A4 | BC1: ROP_A5 | BD1: ROP_B1 | BE1: ROP_B2 | BF1: ROP_B3 | BG1: ROP_B4 | BH1: ROP_B5 | BI1: ROP_C1 | BJ1: ROP_C2 | BK1: ROP_C3 | BL1: ROP_C4 | BM1: ROP_C5 | BN1: ROP_D1 | BO1: ROP_D2 | BP1: ROP_D3 | BQ1: ROP_D4 | BR1: ROP_D5 | BS1: ROP_E1 | BT1: ROP_E2 | BU1: ROP_E3 | BV1: ROP_E4 | BW1: ROP_E5 | BX1: OPV_A1 | BY1: OPV_A2 | BZ1: OPV_A3 | CA1: OPV_A4 | CB1: OPV_A5 | CC1: OPV_B1 | CD1: OPV_B2 | CE1: OPV_B3 | CF1: OPV_B4 | CG1: OPV_B5 | CH1: OPV_C1 | CI1: OPV_C2 | CJ1: OPV_C3 | CK1: OPV_C4 | CL1: OPV_C5 | CM1: OPV_D1 | CN1: OPV_D2 | CO1: OPV_D3 | CP1: OPV_D4 | CQ1: OPV_D5 | CR1: OPV_E1 | CS1: OPV_E2 | CT1: OPV_E3 | CU1: OPV_E4 | CV1: OPV_E5 | CW1: OPVaV_A1 | CX1: OPVaV_A2 | CY1: OPVaV_A3 | CZ1: OPVaV_A4 | DA1: OPVaV_A5 | DB1: OPVaV_B1 | DC1: OPVaV_B2 | DD1: OPVaV_B3 | DE1: OPVaV_B4 | DF1: OPVaV_B5 | DG1: OPVaV_C1 | DH1: OPVaV_C2 | DI1: OPVaV_C3 | DJ1: OPVaV_C4 | DK1: OPVaV_C5 | DL1: OPVaV_D1 | DM1: OPVaV_D2 | DN1: OPVaV_D3 | DO1: OPVaV_D4 | DP1: OPVaV_D5 | DQ1: OPVaV_E1 | DR1: OPVaV_E2 | DS1: OPVaV_E3 | DT1: OPVaV_E4 | DU1: OPVaV_E5 | DV1: KaHR_A1 | DW1: KaHR_A2 | DX1: KaHR_A3 | DY1: KaHR_A4 | DZ1: KaHR_A5 | EA1: KaHR_B1 | EB1: KaHR_B2 | EC1: KaHR_B3 | ED1: KaHR_B4 | EE1: KaHR_B5 | EF1: KaHR_C1 | EG1: KaHR_C2 | EH1: KaHR_C3 | EI1: KaHR_C4 | EJ1: KaHR_C5 | EK1: KaHR_D1 | EL1: KaHR_D2 | EM1: KaHR_D3 | EN1: KaHR_D4 | EO1: KaHR_D5 | EP1: KaHR_E1 | EQ1: KaHR_E2 | ER1: KaHR_E3 | ES1: KaHR_E4 | ET1: KaHR_E5 | EU1: OPŽP_A1 | EV1: OPŽP_A2 | EW1: OPŽP_A3 | EX1: OPŽP_A4 | EY1: OPŽP_A5 | EZ1: OPŽP_B1 | FA1: OPŽP_B2 | FB1: OPŽP_B3 | FC1: OPŽP_B4 | FD1: OPŽP_B5 | FE1: OPŽP_C1 | FF1: OPŽP_C2 | FG1: OPŽP_C3 | FH1: OPŽP_C4 | FI1: OPŽP_C5 | FJ1: OPŽP_D1 | FK1: OPŽP_D2 | FL1: OPŽP_D3 | FM1: OPŽP_D4 | FN1: OPŽP_D5 | FO1: OPŽP_E1 | FP1: OPŽP_E2 | FQ1: OPŽP_E3 | FR1: OPŽP_E4 | FS1: OPŽP_E5 | FT1: OPIS_A1 | FU1: OPIS_A2 | FV1: OPIS_A3 | FW1: OPIS_A4 | FX1: OPIS_A5 | FY1: OPIS_B1 | FZ1: OPIS_B2 | GA1: OPIS_B3 | GB1: OPIS_B4 | GC1: OPIS_B5 | GD1: OPIS_C1 | GE1: OPIS_C2 | GF1: OPIS_C3 | GG1: OPIS_C4 | GH1: OPIS_C5 | GI1: OPIS_D1 | GJ1: OPIS_D2 | GK1: OPIS_D3 | GL1: OPIS_D4 | GM1: OPIS_D5 | GN1: OPIS_E1 | GO1: OPIS_E2 | GP1: OPIS_E3 | GQ1: OPIS_E4 | GR1: OPIS_E5 | GS1: ZaSI_A1 | GT1: ZaSI_A2 | GU1: ZaSI_A3 | GV1: ZaSI_A4 | GW1: ZaSI_A5 | GX1: ZaSI_B1 | GY1: ZaSI_B2 | GZ1: ZaSI_B3 | HA1: ZaSI_B4 | HB1: ZaSI_B5 | HC1: ZaSI_C1 | HD1: ZaSI_C2 | HE1: ZaSI_C3 | HF1: ZaSI_C4 | HG1: ZaSI_C5 | HH1: ZaSI_D1 | HI1: ZaSI_D2 | HJ1: ZaSI_D3 | HK1: ZaSI_D4 | HL1: ZaSI_D5 | HM1: ZaSI_E1 | HN1: ZaSI_E2 | HO1: ZaSI_E3 | HP1: ZaSI_E4 | HQ1: ZaSI_E5 | HR1: OPZ_A1 | HS1: OPZ_A2 | HT1: OPZ_A3 | HU1: OPZ_A4 | HV1: OPZ_A5 | HW1: OPZ_B1 | HX1: OPZ_B2 | HY1: OPZ_B3 | HZ1: OPZ_B4 | IA1: OPZ_B5 | IB1: OPZ_C1 | IC1: OPZ_C2 | ID1: OPZ_C3 | IE1: OPZ_C4 | IF1: OPZ_C5 | IG1: OPZ_D1 | IH1: OPZ_D2 | II1: OPZ_D3 | IJ1: OPZ_D4 | IK1: OPZ_D5 | IL1: OPZ_E1 | IM1: OPZ_E2 | IN1: OPZ_E3 | IO1: OPZ_E4 | IP1: OPZ_E5
A2: ='Sumár za NSRR'!C5 -> 256 | B2: ='Sumár za NSRR'!C6 -> 344 | C2: ='Sumár za NSRR'!C7 -> 418 | D2: ='Sumár za NSRR'!C8 -> 2893 | E2: ='Sumár za NSRR'!C9 -> 3911 | F2: =FIXED('Sumár za NSRR'!D5,2,) -> 1 798 947 114,18 | G2: =FIXED('Sumár za NSRR'!D6,2,) -> 86 215 652,91 | H2: =FIXED('Sumár za NSRR'!D7,2,) -> 18 132 175,32 | I2: =FIXED('Sumár za NSRR'!D8,2,) -> 31 079 632,33 | J2: =FIXED('Sumár za NSRR'!D9,2,) -> 1 934 374 574,74 | K2: ='Sumár za NSRR'!E5 -> 44 | L2: ='Sumár za NSRR'!E6 -> 33 | M2: ='Sumár za NSRR'!E7 -> 44 | N2: ='Sumár za NSRR'!E8 -> 126 | O2: ='Sumár za NSRR'!E9 -> 247 | P2: =FIXED('Sumár za NSRR'!F5,2) -> 585 714 396,35 | Q2: =FIXED('Sumár za NSRR'!F6,2) -> 18 890 015,04 | R2: =FIXED('Sumár za NSRR'!F7,2) -> 4 054 175,80 | S2: =FIXED('Sumár za NSRR'!F8,2) -> 755 789,26 | T2: =FIXED('Sumár za NSRR'!F9,2) -> 609 414 376,45 | U2: =FIXED('Sumár za NSRR'!G5,2) -> 32,56 | V2: =FIXED('Sumár za NSRR'!G6,2) -> 21,91 | W2: =FIXED('Sumár za NSRR'!G7,2) -> 22,36 | X2: =FIXED('Sumár za NSRR'!G8,2) -> 2,43 | Y2: =FIXED('Sumár za NSRR'!G9,2) -> 31,50 | Z2: =OPBK!C5 -> 5 | AA2: =OPBK!C6 -> 34 | AB2: =OPBK!C7 -> 2 | AC2: =OPBK!C8 -> 34 | AD2: =OPBK!C9 -> 75 | AE2: =FIXED(OPBK!D5,2,) -> 1 681 263,50 | AF2: =FIXED(OPBK!D6,2,) -> 6 579 593,41 | AG2: =FIXED(OPBK!D7,2,) -> 58 633,00 | AH2: =FIXED(OPBK!D8,2,) -> 194 690,04 | AI2: =FIXED(OPBK!D9,2,) -> 8 514 179,95 | AJ2: =OPBK!E5 -> 1 | AK2: =OPBK!E6 -> 3 | AL2: =OPBK!E7 -> 0 | AM2: =OPBK!E8 -> 2 | AN2: =OPBK!E9 -> 6 | AO2: =FIXED(OPBK!F5,2,) -> 187 000,00 | AP2: =FIXED(OPBK!F6,2,) -> 494 972,41 | AQ2: =FIXED(OPBK!F7,2,) -> 0,00 | AR2: =FIXED(OPBK!F8,2,) -> 9 849,00 | AS2: =FIXED(OPBK!F9,2,) -> 691 821,41 | AT2: =FIXED(OPBK!G5,2,) -> 11,12 | AU2: =FIXED(OPBK!G6,2,) -> 7,52 | AV2: =FIXED(OPBK!G7,2,) -> 0,00 | AW2: =FIXED(OPBK!G8,2,) -> 5,06 | AX2: =FIXED(OPBK!G9,2,) -> 8,13 | AY2: =ROP!C5 -> 6 | AZ2: =ROP!C6 -> 23 | BA2: =ROP!C7 -> 18 | BB2: =ROP!C8 -> 74 | BC2: =ROP!C9 -> 121 | BD2: =FIXED(ROP!D5,2,) -> 565 782,27 | BE2: =FIXED(ROP!D6,2,) -> 14 937 654,06 | BF2: =FIXED(ROP!D7,2,) -> 1 162 097,66 | BG2: =FIXED(ROP!D8,2,) -> 500 990,43 | BH2: =FIXED(ROP!D9,2,) -> 17 166 524,42 | BI2: =ROP!E5 -> 0 | BJ2: =ROP!E6 -> 0 | BK2: =ROP!E7 -> 3 | BL2: =ROP!E8 -> 2 | BM2: =ROP!E9 -> 5 | BN2: =FIXED(ROP!F5,2,) -> 0,00 | BO2: =FIXED(ROP!F6,2,) -> 0,00 | BP2: =FIXED(ROP!F7,2,) -> 470 124,40 | BQ2: =FIXED(ROP!F8,2,) -> 28 257,00 | BR2: =FIXED(ROP!F9,2,) -> 498 381,40 | BS2: =FIXED(ROP!G5,2,) -> 0,00 | BT2: =FIXED(ROP!G6,2,) -> 0,00 | BU2: =FIXED(ROP!G7,2,) -> 40,45 | BV2: =FIXED(ROP!G8,2,) -> 5,64 | BW2: =FIXED(ROP!G9,2,) -> 2,90 | BX2: =OPV!C5 -> 44 | BY2: =OPV!C6 -> 135 | BZ2: =OPV!C7 -> 249 | CA2: =OPV!C8 -> 1326 | CB2: =OPV!C9 -> 1754 | CC2: =FIXED(OPV!D5,2,) -> 78 387 860,35 | CD2: =FIXED(OPV!D6,2,) -> 11 142 892,05 | CE2: =FIXED(OPV!D7,2,) -> 6 960 992,72 | CF2: =FIXED(OPV!D8,2,) -> 6 325 198,43 | CG2: =FIXED(OPV!D9,2,) -> 102 816 943,55 | CH2: =OPV!E5 -> 7 | CI2: =OPV!E6 -> 1 | CJ2: =OPV!E7 -> 3 | CK2: =OPV!E8 -> 45 | CL2: =OPV!E9 -> 56 | CM2: =FIXED(OPV!F5,2,) -> 15 074 237,12 | CN2: =FIXED(OPV!F6,2,) -> 76 153,38 | CO2: =FIXED(OPV!F7,2,) -> 101 919,00 | CP2: =FIXED(OPV!F8,2,) -> 224 892,72 | CQ2: =FIXED(OPV!F9,2,) -> 15 477 202,22 | CR2: =FIXED(OPV!G5,2,) -> 19,23 | CS2: =FIXED(OPV!G6,2,) -> 0,68 | CT2: =FIXED(OPV!G7,2,) -> 1,46 | CU2: =FIXED(OPV!G8,2,) -> 3,56 | CV2: =FIXED(OPV!G9,2,) -> 15,05 | CW2: =OPVaV!C5 -> 64 | CX2: =OPVaV!C6 -> 81 | CY2: =OPVaV!C7 -> 62 | CZ2: =OPVaV!C8 -> 833 | DA2: =OPVaV!C9 -> 1040 | DB2: =FIXED(OPVaV!D5,2,) -> 146 048 969,32 | DC2: =FIXED(OPVaV!D6,2,) -> 12 933 814,33 | DD2: =FIXED(OPVaV!D7,2,) -> 1 795 281,78 | DE2: =FIXED(OPVaV!D8,2,) -> 20 404 868,75 | DF2: =FIXED(OPVaV!D9,2,) -> 181 182 934,18 | DG2: =OPVaV!E5 -> 2 | DH2: =OPVaV!E6 -> 2 | DI2: =OPVaV!E7 -> 1 | DJ2: =OPVaV!E8 -> 31 | DK2: =OPVaV!E9 -> 36 | DL2: =FIXED(OPVaV!F5,2,) -> 10 853 157,36 | DM2: =FIXED(OPVaV!F6,2,) -> 330 874,58 | DN2: =FIXED(OPVaV!F7,2,) -> 7 962,00 | DO2: =FIXED(OPVaV!F8,2,) -> 178 689,21 | DP2: =FIXED(OPVaV!F9,2,) -> 11 370 683,15 | DQ2: =FIXED(OPVaV!G5,2,) -> 7,43 | DR2: =FIXED(OPVaV!G6,2,) -> 2,56 | DS2: =FIXED(OPVaV!G7,2,) -> 0,44 | DT2: =FIXED(OPVaV!G8,2,) -> 0,88 | DU2: =FIXED(OPVaV!G9,2,) -> 6,28 | DV2: =KaHR!C5 -> 17 | DW2: =KaHR!C6 -> 7 | DX2: =KaHR!C7 -> 20 | DY2: =KaHR!C8 -> 180 | DZ2: =KaHR!C9 -> 224 | EA2: =FIXED(KaHR!D5,2,) -> 14 076 476,00 | EB2: =FIXED(KaHR!D6,2,) -> 8 144 287,57 | EC2: =FIXED(KaHR!D7,2,) -> 1 860 754,00 | ED2: =FIXED(KaHR!D8,2,) -> 1 146 755,07 | EE2: =FIXED(KaHR!D9,2,) -> 25 228 272,64 | EF2: =KaHR!E5 -> 6 | EG2: =KaHR!E6 -> 4 | EH2: =KaHR!E7 -> 16 | EI2: =KaHR!E8 -> 6 | EJ2: =KaHR!E9 -> 32 | EK2: =FIXED(KaHR!F5,2,) -> 2 804 000,00 | EL2: =FIXED(KaHR!F6,2,) -> 614 372,00 | EM2: =FIXED(KaHR!F7,2,) -> 1 356 084,00 | EN2: =FIXED(KaHR!F8,2,) -> 26 563,44 | EO2: =FIXED(KaHR!F9,2,) -> 4 801 019,44 | EP2: =FIXED(KaHR!G5,2,) -> 19,92 | EQ2: =FIXED(KaHR!G6,2,) -> 7,54 | ER2: =FIXED(KaHR!G7,2,) -> 72,88 | ES2: =FIXED(KaHR!G8,2,) -> 2,32 | ET2: =FIXED(KaHR!G9,2,) -> 19,03 | EU2: =OPŽP!C5 -> 15 | EV2: =OPŽP!C6 -> 20 | EW2: =OPŽP!C7 -> 32 | EX2: =OPŽP!C8 -> 179 | EY2: =OPŽP!C9 -> 246 | EZ2: =FIXED(OPŽP!D5,2,) -> 91 699 892,40 | FA2: =FIXED(OPŽP!D6,2,) -> 9 501 446,54 | FB2: =FIXED(OPŽP!D7,2,) -> 4 600 687,12 | FC2: =FIXED(OPŽP!D8,2,) -> 1 300 856,86 | FD2: =FIXED(OPŽP!D9,2,) -> 107 102 882,92 | FE2: =OPŽP!E5 -> 3 | FF2: =OPŽP!E6 -> 5 | FG2: =OPŽP!E7 -> 13 | FH2: =OPŽP!E8 -> 30 | FI2: =OPŽP!E9 -> 51 | FJ2: =FIXED(OPŽP!F5,2,) -> 1 487 041,00 | FK2: =FIXED(OPŽP!F6,2,) -> 3 151 210,67 | FL2: =FIXED(OPŽP!F7,2,) -> 1 466 546,46 | FM2: =FIXED(OPŽP!F8,2,) -> 270 492,52 | FN2: =FIXED(OPŽP!F9,2,) -> 6 375 290,65 | FO2: =FIXED(OPŽP!G5,2,) -> 1,62 | FP2: =FIXED(OPŽP!G6,2,) -> 33,17 | FQ2: =FIXED(OPŽP!G7,2,) -> 31,88 | FR2: =FIXED(OPŽP!G8,2,) -> 20,79 | FS2: =FIXED(OPŽP!G9,2,) -> 5,95 | FT2: =OPIS!C5 -> 43 | FU2: =OPIS!C6 -> 12 | FV2: =OPIS!C7 -> 4 | FW2: =OPIS!C8 -> 47 | FX2: =OPIS!C9 -> 106 | FY2: =FIXED(OPIS!D5,2,) -> 551 042 120,73 | FZ2: =FIXED(OPIS!D6,2,) -> 4 232 846,02 | GA2: =FIXED(OPIS!D7,2,) -> 673 284,17 | GB2: =FIXED(OPIS!D8,2,) -> 267 911,37 | GC2: =FIXED(OPIS!D9,2,) -> 556 216 162,29 | GD2: =OPIS!E5 -> 4 | GE2: =OPIS!E6 -> 0 | GF2: =OPIS!E7 -> 0 | GG2: =OPIS!E8 -> 0 | GH2: =OPIS!E9 -> 4 | GI2: =FIXED(OPIS!F5,2,) -> 46 893 916,91 | GJ2: =FIXED(OPIS!F6,2,) -> 0,00 | GK2: =FIXED(OPIS!F7,2,) -> 0,00 | GL2: =FIXED(OPIS!F8,2,) -> 0,00 | GM2: =FIXED(OPIS!F9,2,) -> 46 893 916,91 | GN2: =FIXED(OPIS!G5,2,) -> 8,51 | GO2: =FIXED(OPIS!G6,2,) -> 0,00 | GP2: =FIXED(OPIS!G7,2,) -> 0,00 | GQ2: =FIXED(OPIS!G8,2,) -> 0,00 | GR2: =FIXED(OPIS!G9,2,) -> 8,43 | GS2: =ZaSI!C5 -> 5 | GT2: =ZaSI!C6 -> 12 | GU2: =ZaSI!C7 -> 30 | GV2: =ZaSI!C8 -> 144 | GW2: =ZaSI!C9 -> 191 | GX2: =FIXED(ZaSI!D5,2,) -> 14 548 438,78 | GY2: =FIXED(ZaSI!D6,2,) -> 1 521 763,75 | GZ2: =FIXED(ZaSI!D7,2,) -> 716 730,73 | HA2: =FIXED(ZaSI!D8,2,) -> 810 299,45 | HB2: =FIXED(ZaSI!D9,2,) -> 17 597 232,71 | HC2: =ZaSI!E5 -> 1 | HD2: =ZaSI!E6 -> 3 | HE2: =ZaSI!E7 -> 7 | HF2: =ZaSI!E8 -> 10 | HG2: =ZaSI!E9 -> 21 | HH2: =FIXED(ZaSI!F5,2,) -> 4 000 000,00 | HI2: =FIXED(ZaSI!F6,2,) -> 174 730,08 | HJ2: =FIXED(ZaSI!F7,2,) -> 347 825,80 | HK2: =FIXED(ZaSI!F8,2,) -> 17 045,37 | HL2: =FIXED(ZaSI!F9,2,) -> 4 539 601,25 | HM2: =FIXED(ZaSI!G5,2,) -> 27,49 | HN2: =FIXED(ZaSI!G6,2,) -> 11,48 | HO2: =FIXED(ZaSI!G7,2,) -> 48,53 | HP2: =FIXED(ZaSI!G8,2,) -> 2,10 | HQ2: =FIXED(ZaSI!G9,2,) -> 25,80 | HR2: =OPZ!C5 -> 19 | HS2: =OPZ!C6 -> 1 | HT2: =OPZ!C7 -> 0 | HU2: =OPZ!C8 -> 7 | HV2: =OPZ!C9 -> 27 | HW2: =FIXED(OPZ!D5,2,) -> 123 180 628,48 | HX2: =FIXED(OPZ!D6,2,) -> 764 700,00 | HY2: =FIXED(OPZ!D7,2,) -> 0,00 | HZ2: =FIXED(OPZ!D8,2,) -> 22 175,18 | IA2: =FIXED(OPZ!D9,2,) -> 123 967 503,66 | IB2: =OPZ!E5 -> 0 | IC2: =OPZ!E6 -> 0 | ID2: =OPZ!E7 -> 0 | IE2: =OPZ!E8 -> 0 | IF2: =OPZ!E9 -> 0 | IG2: =FIXED(OPD!F5,2,) -> 504 415 043,96 | IH2: =FIXED(OPD!F6,2,) -> 14 047 701,92 | II2: =FIXED(OPD!F7,2,) -> 303 714,14 | IJ2: =FIXED(OPD!F8,2,) -> 0,00 | IK2: =FIXED(OPD!F9,2,) -> 518 766 460,02 | IL2: =FIXED(OPZ!G5,2,) -> 0,00 | IM2: =FIXED(OPZ!G6,2,) -> 0,00 | IN2: =FIXED(OPZ!G7,2,) -> 0,00 | IO2: =FIXED(OPZ!G8,2,) -> 0,00 | IP2: =FIXED(OPZ!G9,2,) -> 0,00

Sheet HK2
A1: OPTP_A1 | B1: OPTP_A2 | C1: OPTP_A3 | D1: OPTP_A4 | E1: OPTP_A5 | F1: OPTP_B1 | G1: OPTP_B2 | H1: OPTP_B3 | I1: OPTP_B4 | J1: OPTP_B5 | K1: OPTP_C1 | L1: OPTP_C2 | M1: OPTP_C3 | N1: OPTP_C4 | O1: OPTP_C5 | P1: OPTP_D1 | Q1: OPTP_D2 | R1: OPTP_D3 | S1: OPTP_D4 | T1: OPTP_D5 | U1: OPTP_E1 | V1: OPTP_E2 | W1: OPTP_E3 | X1: OPTP_E4 | Y1: OPTP_E5 | Z1: OPD_A1 | AA1: OPD_A2 | AB1: OPD_A3 | AC1: OPD_A4 | AD1: OPD_A5 | AE1: OPD_B1 | AF1: OPD_B2 | AG1: OPD_B3 | AH1: OPD_B4 | AI1: OPD_B5 | AJ1: OPD_C1 | AK1: OPD_C2 | AL1: OPD_C3 | AM1: OPD_C4 | AN1: OPD_C5 | AO1: OPD_D1 | AP1: OPD_D2 | AQ1: OPD_D3 | AR1: OPD_D4 | AS1: OPD_D5 | AT1: OPD_E1 | AU1: OPD_E2 | AV1: OPD_E3 | AW1: OPD_E4 | AX1: OPD_E5
A2: =OPTP!C5 -> 3 | B2: =OPTP!C6 -> 1 | C2: =OPTP!C7 -> 0 | D2: =OPTP!C8 -> 7 | E2: =OPTP!C9 -> 11 | F2: =FIXED(OPTP!D5,2,) -> 1 497 550,53 | G2: =FIXED(OPTP!D6,2,) -> 127 200,00 | H2: =FIXED(OPTP!D7,2,) -> 0,00 | I2: =FIXED(OPTP!D8,2,) -> 35 054,92 | J2: =FIXED(OPTP!D9,2,) -> 1 659 805,45 | K2: =OPTP!E5 -> 0 | L2: =OPTP!E6 -> 0 | M2: =OPTP!E7 -> 0 | N2: =OPTP!E8 -> 0 | O2: =OPTP!E9 -> 0 | P2: =FIXED(OPTP!F5,2,) -> 0,00 | Q2: =FIXED(OPTP!F6,2,) -> 0,00 | R2: =FIXED(OPTP!F7,2,) -> 0,00 | S2: =FIXED(OPTP!F8,2,) -> 0,00 | T2: =FIXED(OPTP!F9,2,) -> 0,00 | U2: =FIXED(OPTP!G5,2,) -> 0,00 | V2: =FIXED(OPTP!G6,2,) -> 0,00 | W2: =FIXED(OPTP!G7,2,) -> 0,00 | X2: =FIXED(OPTP!G8,2,) -> 0,00 | Y2: =FIXED(OPTP!G9,2,) -> 0,00 | Z2: =OPD!C5 -> 35 | AA2: =OPD!C6 -> 18 | AB2: =OPD!C7 -> 1 | AC2: =OPD!C8 -> 62 | AD2: =OPD!C9 -> 116 | AE2: =FIXED(OPD!D5,2,) -> 776 218 131,82 | AF2: =FIXED(OPD!D6,2,) -> 16 329 455,18 | AG2: =FIXED(OPD!D7,2,) -> 303 714,14 | AH2: =FIXED(OPD!D8,2,) -> 70 831,83 | AI2: =FIXED(OPD!D9,2,) -> 792 922 132,97 | AJ2: =OPD!E5 -> 20 | AK2: =OPD!E6 -> 15 | AL2: =OPD!E7 -> 1 | AM2: =OPD!E8 -> 0 | AN2: =OPD!E9 -> 36 | AO2: =FIXED(OPD!F5,2,) -> 504 415 043,96 | AP2: =FIXED(OPD!F6,2,) -> 14 047 701,92 | AQ2: =FIXED(OPD!F7,2,) -> 303 714,14 | AR2: =FIXED(OPD!F8,2,) -> 0,00 | AS2: =FIXED(OPD!F9,2,) -> 518 766 460,02 | AT2: =FIXED(OPD!G5,2,) -> 64,98 | AU2: =FIXED(OPD!G6,2,) -> 86,03 | AV2: =FIXED(OPD!G7,2,) -> 100,00 | AW2: =FIXED(OPD!G8,2,) -> 0,00 | AX2: =FIXED(OPD!G9,2,) -> 65,42

Sheet Obdobie
A1: Sledované obdobie
A2: Od: | B2: 41456
A3: Do: | B3: 41639

Sheet Sumár za NSRR
A1: Sumárna tabuľka za NSRR 2007-2013
A2: Sledované obdobie | C2: Celkový počet overených zákaziek | D2: Celková hodnota overených zákaziek v EUR (1) | E2: Počet zákaziek označených ako chybné (2) | F2: Celková hodnota zákaziek označených ako chybné (3) | G2: Chybovosť v % (4)
A3: od: | B3: =Obdobie!B2 -> 41456
A4: do: | B4: =Obdobie!B3 -> 41639
A5: Nadlimitné | C5: =OPBK!C5+ROP!C5+OPV!C5+OPVaV!C5+KaHR!C5+OPŽP!C5+OPIS!C5+ZaSI!C5+OPZ!C5+OPTP!C5+OPD!C5 -> 256 | D5: =OPBK!D5+ROP!D5+OPV!D5+OPVaV!D5+KaHR!D5+OPŽP!D5+OPIS!D5+ZaSI!D5+OPZ!D5+OPTP!D5+OPD!D5 -> 1.7989471e+09 | E5: =OPBK!E5+ROP!E5+OPV!E5+OPVaV!E5+KaHR!E5+OPŽP!E5+OPIS!E5+ZaSI!E5+OPZ!E5+OPTP!E5+OPD!E5 -> 44 | F5: =OPBK!F5+ROP!F5+OPV!F5+OPVaV!F5+KaHR!F5+OPŽP!F5+OPIS!F5+ZaSI!F5+OPZ!F5+OPTP!F5+OPD!F5 -> 5.857144e+08 | G5: =IF(D5=0,0,ROUND(F5/(D5/100),2)) -> 32.56
A6: Podlimitné | C6: =OPBK!C6+ROP!C6+OPV!C6+OPVaV!C6+KaHR!C6+OPŽP!C6+OPIS!C6+ZaSI!C6+OPZ!C6+OPTP!C6+OPD!C6 -> 344 | D6: =OPBK!D6+ROP!D6+OPV!D6+OPVaV!D6+KaHR!D6+OPŽP!D6+OPIS!D6+ZaSI!D6+OPZ!D6+OPTP!D6+OPD!D6 -> 86215653 | E6: =OPBK!E6+ROP!E6+OPV!E6+OPVaV!E6+KaHR!E6+OPŽP!E6+OPIS!E6+ZaSI!E6+OPZ!E6+OPTP!E6+OPD!E6 -> 33 | F6: =OPBK!F6+ROP!F6+OPV!F6+OPVaV!F6+KaHR!F6+OPŽP!F6+OPIS!F6+ZaSI!F6+OPZ!F6+OPTP!F6+OPD!F6 -> 18890015 | G6: =IF(D6=0,0,ROUND(F6/(D6/100),2)) -> 21.91
A7: Podprahové | C7: =OPBK!C7+ROP!C7+OPV!C7+OPVaV!C7+KaHR!C7+OPŽP!C7+OPIS!C7+ZaSI!C7+OPZ!C7+OPTP!C7+OPD!C7 -> 418 | D7: =OPBK!D7+ROP!D7+OPV!D7+OPVaV!D7+KaHR!D7+OPŽP!D7+OPIS!D7+ZaSI!D7+OPZ!D7+OPTP!D7+OPD!D7 -> 18132175 | E7: =OPBK!E7+ROP!E7+OPV!E7+OPVaV!E7+KaHR!E7+OPŽP!E7+OPIS!E7+ZaSI!E7+OPZ!E7+OPTP!E7+OPD!E7 -> 44 | F7: =OPBK!F7+ROP!F7+OPV!F7+OPVaV!F7+KaHR!F7+OPŽP!F7+OPIS!F7+ZaSI!F7+OPZ!F7+OPTP!F7+OPD!F7 -> 4054175.8 | G7: =IF(D7=0,0,ROUND(F7/(D7/100),2)) -> 22.36
A8: Nízka hodnota | C8: =OPBK!C8+ROP!C8+OPV!C8+OPVaV!C8+KaHR!C8+OPŽP!C8+OPIS!C8+ZaSI!C8+OPZ!C8+OPTP!C8+OPD!C8 -> 2893 | D8: =OPBK!D8+ROP!D8+OPV!D8+OPVaV!D8+KaHR!D8+OPŽP!D8+OPIS!D8+ZaSI!D8+OPZ!D8+OPTP!D8+OPD!D8 -> 31079632 | E8: =OPBK!E8+ROP!E8+OPV!E8+OPVaV!E8+KaHR!E8+OPŽP!E8+OPIS!E8+ZaSI!E8+OPZ!E8+OPTP!E8+OPD!E8 -> 126 | F8: =OPBK!F8+ROP!F8+OPV!F8+OPVaV!F8+KaHR!F8+OPŽP!F8+OPIS!F8+ZaSI!F8+OPZ!F8+OPTP!F8+OPD!F8 -> 755789.26 | G8: =IF(D8=0,0,ROUND(F8/(D8/100),2)) -> 2.43
A9: Celkom | C9: =SUM(C5:C8) -> 3911 | D9: =SUM(D5:D8) -> 1.9343746e+09 | E9: =SUM(E5:E8) -> 247 | F9: =SUM(F5:F8) -> 6.0941438e+08 | G9: =IF(OR(D9=0,F9=0),0,ROUND(F9/(D9/100),2)) -> 31.5
A11: Vysvetlivky k údajom v tabuľke:
A12: (1) | B12: - celková finančná hodnota všetkých verejných obstarávaní (zákaziek), ktoré boli overované (bol vydaný záznam z administratívnej kontroly verejného obstarávania), bez DPH, pričom sa uvádza cena predložená uchádzačom, ktorý bol označený ako úspešný uchádzač; v prípade výkonu administratívnej kontroly toho istého postupu verejného obstarávania pred podpisom zmluvy s úspešným uchádzačom, ako aj po podpise zmluvy s úspešným uchádzačom na ten istý predmet zákazky sa do celkovej hodnoty, ako aj do celkového počtu overovaných zákaziek takáto zákazka započítava len jeden krát
A13: (2) | B13: - počet verejných obstarávaní (zákaziek), pri ktorých bolo identifikované porušenie zákona o verejnom obstarávaní
A14: (3) | B14: - celková finančná hodnota verejných obstarávaní (zákaziek) bez DPH, pri ktorých bolo identifikované porušenie zákona o verejnom obstarávaní, a ktoré boli vylúčené z financovania alebo bola udelená korekcia
A15: (4) | B15: - (3) / (1) (hodnota uvedená v %, zaokrúhlená na 2 desatinné miesta), pričom sa uvádza percentuálny podiel chybovosti z hľadiska objemu finančných prostriedkov, nie z hľadiska početnosti prípadov

Sheet ROP
A1: Regionálny Operačný program
A2: Sledované obdobie | C2: Celkový počet overených zákaziek | D2: Celková hodnota overených zákaziek v EUR (1) | E2: Počet zákaziek označených ako chybné (2) | F2: Celková hodnota zákaziek označených ako chybné (3) | G2: Chybovosť v % (4)
A3: od: | B3: =Obdobie!B2 -> 41456
A4: do: | B4: =Obdobie!B3 -> 41639
A5: Nadlimitné | C5: 6 | D5: 565782.27 | E5: 0 | F5: 0 | G5: =IF(D5=0,0,ROUND(F5/(D5/100),2)) -> 0
A6: Podlimitné | C6: 23 | D6: 14937654 | E6: 0 | F6: 0 | G6: =IF(D6=0,0,ROUND(F6/(D6/100),2)) -> 0
A7: Podprahové | C7: 18 | D7: 1162097.7 | E7: 3 | F7: 470124.4 | G7: =IF(D7=0,0,ROUND(F7/(D7/100),2)) -> 40.45
A8: Nízka hodnota | C8: 74 | D8: 500990.43 | E8: 2 | F8: 28257 | G8: =IF(D8=0,0,ROUND(F8/(D8/100),2)) -> 5.64
A9: Celkom | C9: =SUM(C5:C8) -> 121 | D9: =SUM(D5:D8) -> 17166524 | E9: =SUM(E5:E8) -> 5 | F9: =SUM(F5:F8) -> 498381.4 | G9: =IF(OR(D9=0,F9=0),0,ROUND(F9/(D9/100),2)) -> 2.9
A11: Vysvetlivky k údajom v tabuľke:
A12: (1) | B12: - celková finančná hodnota všetkých verejných obstarávaní (zákaziek), ktoré boli overované (bol vydaný záznam z administratívnej kontroly verejného obstarávania), bez DPH, pričom sa uvádza cena predložená uchádzačom, ktorý bol označený ako úspešný uchádzač; v prípade výkonu administratívnej kontroly toho istého postupu verejného obstarávania pred podpisom zmluvy s úspešným uchádzačom, ako aj po podpise zmluvy s úspešným uchádzačom na ten istý predmet zákazky sa do celkovej hodnoty, ako aj do celkového počtu overovaných zákaziek takáto zákazka započítava len jeden krát
A13: (2) | B13: - počet verejných obstarávaní (zákaziek), pri ktorých bolo identifikované porušenie zákona o verejnom obstarávaní
A14: (3) | B14: - celková finančná hodnota verejných obstarávaní (zákaziek) bez DPH, pri ktorých bolo identifikované porušenie zákona o verejnom obstarávaní, a ktoré boli vylúčené z financovania alebo bola udelená korekcia
A15: (4) | B15: - (3) / (1) (hodnota uvedená v %, zaokrúhlená na 2 desatinné miesta), pričom sa uvádza percentuálny podiel chybovosti z hľadiska objemu finančných prostriedkov, nie z hľadiska početnosti prípadov

Sheet OPBK
A1: Operačný program Bratislavský kraj
A2: Sledované obdobie | C2: Celkový počet overených zákaziek | D2: Celková hodnota overených zákaziek v EUR (1) | E2: Počet zákaziek označených ako chybné (2) | F2: Celková hodnota zákaziek označených ako chybné (3) | G2: Chybovosť v % (4)
A3: od: | B3: =Obdobie!B2 -> 41456
A4: do: | B4: =Obdobie!B3 -> 41639
A5: Nadlimitné | C5: 5 | D5: 1681263.5 | E5: 1 | F5: 187000 | G5: =IF(D5=0,0,ROUND(F5/(D5/100),2)) -> 11.12
A6: Podlimitné | C6: 34 | D6: 6579593.4 | E6: 3 | F6: 494972.41 | G6: =IF(D6=0,0,ROUND(F6/(D6/100),2)) -> 7.52
A7: Podprahové | C7: 2 | D7: 58633 | E7: 0 | F7: 0 | G7: =IF(D7=0,0,ROUND(F7/(D7/100),2)) -> 0
A8: Nízka hodnota | C8: 34 | D8: 194690.04 | E8: 2 | F8: 9849 | G8: =IF(D8=0,0,ROUND(F8/(D8/100),2)) -> 5.06
A9: Celkom | C9: =SUM(C5:C8) -> 75 | D9: =SUM(D5:D8) -> 8514179.9 | E9: =SUM(E5:E8) -> 6 | F9: =SUM(F5:F8) -> 691821.41 | G9: =IF(OR(D9=0,F9=0),0,ROUND(F9/(D9/100),2)) -> 8.13
A11: Vysvetlivky k údajom v tabuľke:
A12: (1) | B12: - celková finančná hodnota všetkých verejných obstarávaní (zákaziek), ktoré boli overované (bol vydaný záznam z administratívnej kontroly verejného obstarávania), bez DPH, pričom sa uvádza cena predložená uchádzačom, ktorý bol označený ako úspešný uchádzač; v prípade výkonu administratívnej kontroly toho istého postupu verejného obstarávania pred podpisom zmluvy s úspešným uchádzačom, ako aj po podpise zmluvy s úspešným uchádzačom na ten istý predmet zákazky sa do celkovej hodnoty, ako aj do celkového počtu overovaných zákaziek takáto zákazka započítava len jeden krát
A13: (2) | B13: - počet verejných obstarávaní (zákaziek), pri ktorých bolo identifikované porušenie zákona o verejnom obstarávaní
A14: (3) | B14: - celková finančná hodnota verejných obstarávaní (zákaziek) bez DPH, pri ktorých bolo identifikované porušenie zákona o verejnom obstarávaní, a ktoré boli vylúčené z financovania alebo bola udelená korekcia
A15: (4) | B15: - (3) / (1) (hodnota uvedená v %, zaokrúhlená na 2 desatinné miesta), pričom sa uvádza percentuálny podiel chybovosti z hľadiska objemu finančných prostriedkov, nie z hľadiska početnosti prípadov

Sheet OPTP
A1: Operačný program Technická pomoc
A2: Sledované obdobie | C2: Celkový počet overených zákaziek | D2: Celková hodnota overených zákaziek v EUR (1) | E2: Počet zákaziek označených ako chybné (2) | F2: Celková hodnota zákaziek označených ako chybné (3) | G2: Chybovosť v % (4)
A3: od: | B3: =Obdobie!B2 -> 41456
A4: do: | B4: =Obdobie!B3 -> 41639
A5: Nadlimitné | C5: 3 | D5: 1497550.5 | E5: 0 | F5: 0 | G5: =IF(D5=0,0,ROUND(F5/(D5/100),2)) -> 0
A6: Podlimitné | C6: 1 | D6: 127200 | E6: 0 | F6: 0 | G6: =IF(D6=0,0,ROUND(F6/(D6/100),2)) -> 0
A7: Podprahové | C7: 0 | D7: 0 | E7: 0 | F7: 0 | G7: =IF(D7=0,0,ROUND(F7/(D7/100),2)) -> 0
A8: Nízka hodnota | C8: 7 | D8: 35054.92 | E8: 0 | F8: 0 | G8: =IF(D8=0,0,ROUND(F8/(D8/100),2)) -> 0
A9: Celkom | C9: =SUM(C5:C8) -> 11 | D9: =SUM(D5:D8) -> 1659805.4 | E9: =SUM(E5:E8) -> 0 | F9: =SUM(F5:F8) -> 0 | G9: =IF(OR(D9=0,F9=0),0,ROUND(F9/(D9/100),2)) -> 0
A11: Vysvetlivky k údajom v tabuľke:
A12: (1) | B12: - celková finančná hodnota všetkých verejných obstarávaní (zákaziek), ktoré boli overované (bol vydaný záznam z administratívnej kontroly verejného obstarávania), bez DPH, pričom sa uvádza cena predložená uchádzačom, ktorý bol označený ako úspešný uchádzač; v prípade výkonu administratívnej kontroly toho istého postupu verejného obstarávania pred podpisom zmluvy s úspešným uchádzačom, ako aj po podpise zmluvy s úspešným uchádzačom na ten istý predmet zákazky sa do celkovej hodnoty, ako aj do celkového počtu overovaných zákaziek takáto zákazka započítava len jeden krát
A13: (2) | B13: - počet verejných obstarávaní (zákaziek), pri ktorých bolo identifikované porušenie zákona o verejnom obstarávaní
A14: (3) | B14: - celková finančná hodnota verejných obstarávaní (zákaziek) bez DPH, pri ktorých bolo identifikované porušenie zákona o verejnom obstarávaní, a ktoré boli vylúčené z financovania alebo bola udelená korekcia
A15: (4) | B15: - (3) / (1) (hodnota uvedená v %, zaokrúhlená na 2 desatinné miesta), pričom sa uvádza percentuálny podiel chybovosti z hľadiska objemu finančných prostriedkov, nie z hľadiska početnosti prípadov

Sheet OPŽP
A1: Operačný program Životné prostredie
A2: Sledované obdobie | C2: Celkový počet overených zákaziek | D2: Celková hodnota overených zákaziek v EUR (1) | E2: Počet zákaziek označených ako chybné (2) | F2: Celková hodnota zákaziek označených ako chybné (3) | G2: Chybovosť v % (4)
A3: od: | B3: =Obdobie!B2 -> 41456
A4: do: | B4: =Obdobie!B3 -> 41639
A5: Nadlimitné | C5: 15 | D5: 91699892 | E5: 3 | F5: 1487041 | G5: =IF(D5=0,0,ROUND(F5/(D5/100),2)) -> 1.62
A6: Podlimitné | C6: 20 | D6: 9501446.5 | E6: 5 | F6: 3151210.7 | G6: =IF(D6=0,0,ROUND(F6/(D6/100),2)) -> 33.17
A7: Podprahové | C7: 32 | D7: 4600687.1 | E7: 13 | F7: 1466546.5 | G7: =IF(D7=0,0,ROUND(F7/(D7/100),2)) -> 31.88
A8: Nízka hodnota | C8: 179 | D8: 1300856.9 | E8: 30 | F8: 270492.52 | G8: =IF(D8=0,0,ROUND(F8/(D8/100),2)) -> 20.79
A9: Celkom | C9: =SUM(C5:C8) -> 246 | D9: =SUM(D5:D8) -> 1.0710288e+08 | E9: =SUM(E5:E8) -> 51 | F9: =SUM(F5:F8) -> 6375290.7 | G9: =IF(OR(D9=0,F9=0),0,ROUND(F9/(D9/100),2)) -> 5.95
A11: Vysvetlivky k údajom v tabuľke:
A12: (1) | B12: - celková finančná hodnota všetkých verejných obstarávaní (zákaziek), ktoré boli overované (bol vydaný záznam z administratívnej kontroly verejného obstarávania), bez DPH, pričom sa uvádza cena predložená uchádzačom, ktorý bol označený ako úspešný uchádzač; v prípade výkonu administratívnej kontroly toho istého postupu verejného obstarávania pred podpisom zmluvy s úspešným uchádzačom, ako aj po podpise zmluvy s úspešným uchádzačom na ten istý predmet zákazky sa do celkovej hodnoty, ako aj do celkového počtu overovaných zákaziek takáto zákazka započítava len jeden krát
A13: (2) | B13: - počet verejných obstarávaní (zákaziek), pri ktorých bolo identifikované porušenie zákona o verejnom obstarávaní
A14: (3) | B14: - celková finančná hodnota verejných obstarávaní (zákaziek) bez DPH, pri ktorých bolo identifikované porušenie zákona o verejnom obstarávaní, a ktoré boli vylúčené z financovania alebo bola udelená korekcia
A15: (4) | B15: - (3) / (1) (hodnota uvedená v %, zaokrúhlená na 2 desatinné miesta), pričom sa uvádza percentuálny podiel chybovosti z hľadiska objemu finančných prostriedkov, nie z hľadiska početnosti prípadov

Sheet OPD
A1: Operačný program Doprava
A2: Sledované obdobie | C2: Celkový počet overených zákaziek | D2: Celková hodnota overených zákaziek v EUR (1) | E2: Počet zákaziek označených ako chybné (2) | F2: Celková hodnota zákaziek označených ako chybné (3) | G2: Chybovosť v % (4)
A3: od: | B3: =Obdobie!B2 -> 41456
A4: do: | B4: =Obdobie!B3 -> 41639
A5: Nadlimitné | C5: 35 | D5: 7.7621813e+08 | E5: 20 | F5: 5.0441504e+08 | G5: =IF(D5=0,0,ROUND(F5/(D5/100),2)) -> 64.98
A6: Podlimitné | C6: 18 | D6: 16329455 | E6: 15 | F6: 14047702 | G6: =IF(D6=0,0,ROUND(F6/(D6/100),2)) -> 86.03
A7: Podprahové | C7: 1 | D7: 303714.14 | E7: 1 | F7: 303714.14 | G7: =IF(D7=0,0,ROUND(F7/(D7/100),2)) -> 100
A8: Nízka hodnota | C8: 62 | D8: 70831.83 | E8: 0 | F8: 0 | G8: =IF(D8=0,0,ROUND(F8/(D8/100),2)) -> 0
A9: Celkom | C9: =SUM(C5:C8) -> 116 | D9: =SUM(D5:D8) -> 7.9292213e+08 | E9: =SUM(E5:E8) -> 36 | F9: =SUM(F5:F8) -> 5.1876646e+08 | G9: =IF(OR(D9=0,F9=0),0,ROUND(F9/(D9/100),2)) -> 65.42
A11: Vysvetlivky k údajom v tabuľke:
A12: (1) | B12: - celková finančná hodnota všetkých verejných obstarávaní (zákaziek), ktoré boli overované (bol vydaný záznam z administratívnej kontroly verejného obstarávania), bez DPH, pričom sa uvádza cena predložená uchádzačom, ktorý bol označený ako úspešný uchádzač; v prípade výkonu administratívnej kontroly toho istého postupu verejného obstarávania pred podpisom zmluvy s úspešným uchádzačom, ako aj po podpise zmluvy s úspešným uchádzačom na ten istý predmet zákazky sa do celkovej hodnoty, ako aj do celkového počtu overovaných zákaziek takáto zákazka započítava len jeden krát
A13: (2) | B13: - počet verejných obstarávaní (zákaziek), pri ktorých bolo identifikované porušenie zákona o verejnom obstarávaní
A14: (3) | B14: - celková finančná hodnota verejných obstarávaní (zákaziek) bez DPH, pri ktorých bolo identifikované porušenie zákona o verejnom obstarávaní, a ktoré boli vylúčené z financovania alebo bola udelená korekcia
A15: (4) | B15: - (3) / (1) (hodnota uvedená v %, zaokrúhlená na 2 desatinné miesta), pričom sa uvádza percentuálny podiel chybovosti z hľadiska objemu finančných prostriedkov, nie z hľadiska početnosti prípadov

Sheet OPIS
A1: Operačný program Informatizácia spoločnosti
A2: Sledované obdobie | C2: Celkový počet overených zákaziek | D2: Celková hodnota overených zákaziek v EUR (1) | E2: Počet zákaziek označených ako chybné (2) | F2: Celková hodnota zákaziek označených ako chybné (3) | G2: Chybovosť v % (4)
A3: od: | B3: =Obdobie!B2 -> 41456
A4: do: | B4: =Obdobie!B3 -> 41639
A5: Nadlimitné | C5: 43 | D5: 5.5104212e+08 | E5: 4 | F5: 46893917 | G5: =IF(D5=0,0,ROUND(F5/(D5/100),2)) -> 8.51
A6: Podlimitné | C6: 12 | D6: 4232846 | E6: 0 | F6: 0 | G6: =IF(D6=0,0,ROUND(F6/(D6/100),2)) -> 0
A7: Podprahové | C7: 4 | D7: 673284.17 | E7: 0 | F7: 0 | G7: =IF(D7=0,0,ROUND(F7/(D7/100),2)) -> 0
A8: Nízka hodnota | C8: 47 | D8: 267911.37 | E8: 0 | F8: 0 | G8: =IF(D8=0,0,ROUND(F8/(D8/100),2)) -> 0
A9: Celkom | C9: =SUM(C5:C8) -> 106 | D9: =SUM(D5:D8) -> 5.5621616e+08 | E9: =SUM(E5:E8) -> 4 | F9: =SUM(F5:F8) -> 46893917 | G9: =IF(OR(D9=0,F9=0),0,ROUND(F9/(D9/100),2)) -> 8.43
A11: Vysvetlivky k údajom v tabuľke:
A12: (1) | B12: - celková finančná hodnota všetkých verejných obstarávaní (zákaziek), ktoré boli overované (bol vydaný záznam z administratívnej kontroly verejného obstarávania), bez DPH, pričom sa uvádza cena predložená uchádzačom, ktorý bol označený ako úspešný uchádzač; v prípade výkonu administratívnej kontroly toho istého postupu verejného obstarávania pred podpisom zmluvy s úspešným uchádzačom, ako aj po podpise zmluvy s úspešným uchádzačom na ten istý predmet zákazky sa do celkovej hodnoty, ako aj do celkového počtu overovaných zákaziek takáto zákazka započítava len jeden krát
A13: (2) | B13: - počet verejných obstarávaní (zákaziek), pri ktorých bolo identifikované porušenie zákona o verejnom obstarávaní
A14: (3) | B14: - celková finančná hodnota verejných obstarávaní (zákaziek) bez DPH, pri ktorých bolo identifikované porušenie zákona o verejnom obstarávaní, a ktoré boli vylúčené z financovania alebo bola udelená korekcia
A15: (4) | B15: - (3) / (1) (hodnota uvedená v %, zaokrúhlená na 2 desatinné miesta), pričom sa uvádza percentuálny podiel chybovosti z hľadiska objemu finančných prostriedkov, nie z hľadiska početnosti prípadov

Sheet OPV
A1: Operačný program Vzdelávanie
A2: Sledované obdobie | C2: Celkový počet overených zákaziek | D2: Celková hodnota overených zákaziek v EUR (1) | E2: Počet zákaziek označených ako chybné (2) | F2: Celková hodnota zákaziek označených ako chybné (3) | G2: Chybovosť v % (4)
A3: od: | B3: =Obdobie!B2 -> 41456
A4: do: | B4: =Obdobie!B3 -> 41639
A5: Nadlimitné | C5: 44 | D5: 78387860 | E5: 7 | F5: 15074237 | G5: =IF(D5=0,0,ROUND(F5/(D5/100),2)) -> 19.23
A6: Podlimitné | C6: 135 | D6: 11142892 | E6: 1 | F6: 76153.38 | G6: =IF(D6=0,0,ROUND(F6/(D6/100),2)) -> 0.68
A7: Podprahové | C7: 249 | D7: 6960992.7 | E7: 3 | F7: 101919 | G7: =IF(D7=0,0,ROUND(F7/(D7/100),2)) -> 1.46
A8: Nízka hodnota | C8: 1326 | D8: 6325198.4 | E8: 45 | F8: 224892.72 | G8: =IF(D8=0,0,ROUND(F8/(D8/100),2)) -> 3.56
A9: Celkom | C9: =SUM(C5:C8) -> 1754 | D9: =SUM(D5:D8) -> 1.0281694e+08 | E9: =SUM(E5:E8) -> 56 | F9: =SUM(F5:F8) -> 15477202 | G9: =IF(OR(D9=0,F9=0),0,ROUND(F9/(D9/100),2)) -> 15.05
A11: Vysvetlivky k údajom v tabuľke:
A12: (1) | B12: - celková finančná hodnota všetkých verejných obstarávaní (zákaziek), ktoré boli overované (bol vydaný záznam z administratívnej kontroly verejného obstarávania), bez DPH, pričom sa uvádza cena predložená uchádzačom, ktorý bol označený ako úspešný uchádzač; v prípade výkonu administratívnej kontroly toho istého postupu verejného obstarávania pred podpisom zmluvy s úspešným uchádzačom, ako aj po podpise zmluvy s úspešným uchádzačom na ten istý predmet zákazky sa do celkovej hodnoty, ako aj do celkového počtu overovaných zákaziek takáto zákazka započítava len jeden krát
A13: (2) | B13: - počet verejných obstarávaní (zákaziek), pri ktorých bolo identifikované porušenie zákona o verejnom obstarávaní
A14: (3) | B14: - celková finančná hodnota verejných obstarávaní (zákaziek) bez DPH, pri ktorých bolo identifikované porušenie zákona o verejnom obstarávaní, a ktoré boli vylúčené z financovania alebo bola udelená korekcia
A15: (4) | B15: - (3) / (1) (hodnota uvedená v %, zaokrúhlená na 2 desatinné miesta), pričom sa uvádza percentuálny podiel chybovosti z hľadiska objemu finančných prostriedkov, nie z hľadiska početnosti prípadov

Sheet OPVaV
A1: Operačný program Výskum a vývoj
A2: Sledované obdobie | C2: Celkový počet overených zákaziek | D2: Celková hodnota overených zákaziek v EUR (1) | E2: Počet zákaziek označených ako chybné (2) | F2: Celková hodnota zákaziek označených ako chybné (3) | G2: Chybovosť v % (4)
A3: od: | B3: =Obdobie!B2 -> 41456
A4: do: | B4: =Obdobie!B3 -> 41639
A5: Nadlimitné | C5: 64 | D5: 1.4604897e+08 | E5: 2 | F5: 10853157 | G5: =IF(D5=0,0,ROUND(F5/(D5/100),2)) -> 7.43
A6: Podlimitné | C6: 81 | D6: 12933814 | E6: 2 | F6: 330874.58 | G6: =IF(D6=0,0,ROUND(F6/(D6/100),2)) -> 2.56
A7: Podprahové | C7: 62 | D7: 1795281.8 | E7: 1 | F7: 7962 | G7: =IF(D7=0,0,ROUND(F7/(D7/100),2)) -> 0.44
A8: Nízka hodnota | C8: 833 | D8: 20404869 | E8: 31 | F8: 178689.21 | G8: =IF(D8=0,0,ROUND(F8/(D8/100),2)) -> 0.88
A9: Celkom | C9: =SUM(C5:C8) -> 1040 | D9: =SUM(D5:D8) -> 1.8118293e+08 | E9: =SUM(E5:E8) -> 36 | F9: =SUM(F5:F8) -> 11370683 | G9: =IF(OR(D9=0,F9=0),0,ROUND(F9/(D9/100),2)) -> 6.28
A11: Vysvetlivky k údajom v tabuľke:
A12: (1) | B12: - celková finančná hodnota všetkých verejných obstarávaní (zákaziek), ktoré boli overované (bol vydaný záznam z administratívnej kontroly verejného obstarávania), bez DPH, pričom sa uvádza cena predložená uchádzačom, ktorý bol označený ako úspešný uchádzač; v prípade výkonu administratívnej kontroly toho istého postupu verejného obstarávania pred podpisom zmluvy s úspešným uchádzačom, ako aj po podpise zmluvy s úspešným uchádzačom na ten istý predmet zákazky sa do celkovej hodnoty, ako aj do celkového počtu overovaných zákaziek takáto zákazka započítava len jeden krát
A13: (2) | B13: - počet verejných obstarávaní (zákaziek), pri ktorých bolo identifikované porušenie zákona o verejnom obstarávaní
A14: (3) | B14: - celková finančná hodnota verejných obstarávaní (zákaziek) bez DPH, pri ktorých bolo identifikované porušenie zákona o verejnom obstarávaní, a ktoré boli vylúčené z financovania alebo bola udelená korekcia
A15: (4) | B15: - (3) / (1) (hodnota uvedená v %, zaokrúhlená na 2 desatinné miesta), pričom sa uvádza percentuálny podiel chybovosti z hľadiska objemu finančných prostriedkov, nie z hľadiska početnosti prípadov

Sheet KaHR
A1: Operačný program Konkurencieschopnosť a hospodársky rast
A2: Sledované obdobie | C2: Celkový počet overených zákaziek | D2: Celková hodnota overených zákaziek v EUR (1) | E2: Počet zákaziek označených ako chybné (2) | F2: Celková hodnota zákaziek označených ako chybné (3) | G2: Chybovosť v % (4)
A3: od: | B3: =Obdobie!B2 -> 41456
A4: do: | B4: =Obdobie!B3 -> 41639
A5: Nadlimitné | C5: 17 | D5: 14076476 | E5: 6 | F5: 2804000 | G5: =IF(D5=0,0,ROUND(F5/(D5/100),2)) -> 19.92
A6: Podlimitné | C6: 7 | D6: 8144287.6 | E6: 4 | F6: 614372 | G6: =IF(D6=0,0,ROUND(F6/(D6/100),2)) -> 7.54
A7: Podprahové | C7: 20 | D7: 1860754 | E7: 16 | F7: 1356084 | G7: =IF(D7=0,0,ROUND(F7/(D7/100),2)) -> 72.88
A8: Nízka hodnota | C8: 180 | D8: 1146755.1 | E8: 6 | F8: 26563.44 | G8: =IF(D8=0,0,ROUND(F8/(D8/100),2)) -> 2.32
A9: Celkom | C9: =SUM(C5:C8) -> 224 | D9: =SUM(D5:D8) -> 25228273 | E9: =SUM(E5:E8) -> 32 | F9: =SUM(F5:F8) -> 4801019.4 | G9: =IF(OR(D9=0,F9=0),0,ROUND(F9/(D9/100),2)) -> 19.03
A10: * verejné obstarávania, pri ktorých bolo identifikované porušenie zákona o verejnom obstarávaní, boli odporučené Prijímateľom zrušiť a vyhlásiť nové verejné obstarávanie
A11: Vysvetlivky k údajom v tabuľke:
A12: (1) | B12: - celková finančná hodnota všetkých verejných obstarávaní (zákaziek), ktoré boli overované (bol vydaný záznam z administratívnej kontroly verejného obstarávania), bez DPH, pričom sa uvádza cena predložená uchádzačom, ktorý bol označený ako úspešný uchádzač; v prípade výkonu administratívnej kontroly toho istého postupu verejného obstarávania pred podpisom zmluvy s úspešným uchádzačom, ako aj po podpise zmluvy s úspešným uchádzačom na ten istý predmet zákazky sa do celkovej hodnoty, ako aj do celkového počtu overovaných zákaziek takáto zákazka započítava len jeden krát
A13: (2) | B13: - počet verejných obstarávaní (zákaziek), pri ktorých bolo identifikované porušenie zákona o verejnom obstarávaní
A14: (3) | B14: - celková finančná hodnota verejných obstarávaní (zákaziek) bez DPH, pri ktorých bolo identifikované porušenie zákona o verejnom obstarávaní, a ktoré boli vylúčené z financovania alebo bola udelená korekcia
A15: (4) | B15: - (3) / (1) (hodnota uvedená v %, zaokrúhlená na 2 desatinné miesta), pričom sa uvádza percentuálny podiel chybovosti z hľadiska objemu finančných prostriedkov, nie z hľadiska početnosti prípadov
A17: Poznámka: Systém kontroly verejných obstarávaní v rámci implementácie projektov financovaných z fondov EÚ prebieha viacstupňovo. RO/SORO v prípade zistení porušenia zákona o VO vyzve prijímateľov na odstránenie identifikovaných nedostatkov, resp. v prípade neodstrániteľných nedostatkov sú prijímatelia vyzvaní na opakovanie celého procesu verejného obstarávania.

Sheet OPZ
A1: Operačný program Zdravotníctvo
A2: Sledované obdobie | C2: Celkový počet overených zákaziek | D2: Celková hodnota overených zákaziek v EUR (1) | E2: Počet zákaziek označených ako chybné (2) | F2: Celková hodnota zákaziek označených ako chybné (3) | G2: Chybovosť v % (4)
A3: od: | B3: =Obdobie!B2 -> 41456
A4: do: | B4: =Obdobie!B3 -> 41639
A5: Nadlimitné | C5: 19 | D5: 1.2318063e+08 | E5: 0 | F5: 0 | G5: =IF(D5=0,0,ROUND(F5/(D5/100),2)) -> 0
A6: Podlimitné | C6: 1 | D6: 764700 | E6: 0 | F6: 0 | G6: =IF(D6=0,0,ROUND(F6/(D6/100),2)) -> 0
A7: Podprahové | C7: 0 | D7: 0 | E7: 0 | F7: 0 | G7: =IF(D7=0,0,ROUND(F7/(D7/100),2)) -> 0
A8: Nízka hodnota | C8: 7 | D8: 22175.18 | E8: 0 | F8: 0 | G8: =IF(D8=0,0,ROUND(F8/(D8/100),2)) -> 0
A9: Celkom | C9: =SUM(C5:C8) -> 27 | D9: =SUM(D5:D8) -> 1.239675e+08 | E9: =SUM(E5:E8) -> 0 | F9: =SUM(F5:F8) -> 0 | G9: =IF(OR(D9=0,F9=0),0,ROUND(F9/(D9/100),2)) -> 0
A10: Poznámka: RO vykonalo 19 administratívnych kontrol nadlimitných zákaziek, z toho 16 AK nadlimitných zákaziek bolo vykonaných na základe zistenia uvedených v správe EK č. 2013/SK/REGIO/C4/1221/1 a to podozrenia z tajnej dohody medzi uchádzačmi a subdodávateľmi, pre uvedených 16 zákaziek boli vystavené nezrovnalosti a postúpené na orgány konajúce vo vyšetrovaní podnetu z možného trestného činu a to podozrenia z tajnej dohody medzi uchádzačmi a subdodávateľmi ako aj nastavenie diskriminačných výberových kritérií a tým obmedzenia hospodárskej súťaže. Predmetných 16 zákaziek nie je uvedených v stĺpci 2 tabuľky, nakoľko vyššie uvedené podozrenie nie je potvrdené a teda nie sú predmetné zákazky označené ako chybné.
A11: Vysvetlivky k údajom v tabuľke:
A12: (1) | B12: - celková finančná hodnota všetkých verejných obstarávaní (zákaziek), ktoré boli overované (bol vydaný záznam z administratívnej kontroly verejného obstarávania), bez DPH, pričom sa uvádza cena predložená uchádzačom, ktorý bol označený ako úspešný uchádzač; v prípade výkonu administratívnej kontroly toho istého postupu verejného obstarávania pred podpisom zmluvy s úspešným uchádzačom, ako aj po podpise zmluvy s úspešným uchádzačom na ten istý predmet zákazky sa do celkovej hodnoty, ako aj do celkového počtu overovaných zákaziek takáto zákazka započítava len jeden krát
A13: (2) | B13: - počet verejných obstarávaní (zákaziek), pri ktorých bolo identifikované porušenie zákona o verejnom obstarávaní
A14: (3) | B14: - celková finančná hodnota verejných obstarávaní (zákaziek) bez DPH, pri ktorých bolo identifikované porušenie zákona o verejnom obstarávaní, a ktoré boli vylúčené z financovania alebo bola udelená korekcia
A15: (4) | B15: - (3) / (1) (hodnota uvedená v %, zaokrúhlená na 2 desatinné miesta), pričom sa uvádza percentuálny podiel chybovosti z hľadiska objemu finančných prostriedkov, nie z hľadiska početnosti prípadov

Sheet ZaSI
A1: Operačný program Zamestnanosť a sociálna inklúzia
A2: Sledované obdobie | C2: Celkový počet overených zákaziek | D2: Celková hodnota overených zákaziek v EUR (1) | E2: Počet zákaziek označených ako chybné (2) | F2: Celková hodnota zákaziek označených ako chybné (3) | G2: Chybovosť v % (4)
A3: od: | B3: =Obdobie!B2 -> 41456
A4: do: | B4: =Obdobie!B3 -> 41639
A5: Nadlimitné | C5: 5 | D5: 14548439 | E5: 1 | F5: 4000000 | G5: =IF(D5=0,0,ROUND(F5/(D5/100),2)) -> 27.49
A6: Podlimitné | C6: 12 | D6: 1521763.8 | E6: 3 | F6: 174730.08 | G6: =IF(D6=0,0,ROUND(F6/(D6/100),2)) -> 11.48
A7: Podprahové | C7: 30 | D7: 716730.73 | E7: 7 | F7: 347825.8 | G7: =IF(D7=0,0,ROUND(F7/(D7/100),2)) -> 48.53
A8: Nízka hodnota | C8: 144 | D8: 810299.45 | E8: 10 | F8: 17045.37 | G8: =IF(D8=0,0,ROUND(F8/(D8/100),2)) -> 2.1
A9: Celkom | C9: =SUM(C5:C8) -> 191 | D9: =SUM(D5:D8) -> 17597233 | E9: =SUM(E5:E8) -> 21 | F9: =SUM(F5:F8) -> 4539601.2 | G9: =IF(OR(D9=0,F9=0),0,ROUND(F9/(D9/100),2)) -> 25.8
A11: Vysvetlivky k údajom v tabuľke:
A12: (1) | B12: - celková finančná hodnota všetkých verejných obstarávaní (zákaziek), ktoré boli overované (bol vydaný záznam z administratívnej kontroly verejného obstarávania), bez DPH, pričom sa uvádza cena predložená uchádzačom, ktorý bol označený ako úspešný uchádzač; v prípade výkonu administratívnej kontroly toho istého postupu verejného obstarávania pred podpisom zmluvy s úspešným uchádzačom, ako aj po podpise zmluvy s úspešným uchádzačom na ten istý predmet zákazky sa do celkovej hodnoty, ako aj do celkového počtu overovaných zákaziek takáto zákazka započítava len jeden krát
A13: (2) | B13: - počet verejných obstarávaní (zákaziek), pri ktorých bolo identifikované porušenie zákona o verejnom obstarávaní
A14: (3) | B14: - celková finančná hodnota verejných obstarávaní (zákaziek) bez DPH, pri ktorých bolo identifikované porušenie zákona o verejnom obstarávaní, a ktoré boli vylúčené z financovania alebo bola udelená korekcia
A15: (4) | B15: - (3) / (1) (hodnota uvedená v %, zaokrúhlená na 2 desatinné miesta), pričom sa uvádza percentuálny podiel chybovosti z hľadiska objemu finančných prostriedkov, nie z hľadiska početnosti prípadov
