Workbook

Sheet OP Rybné hosp
A1: Operačný program Rybné hospodárstvo na roky 2007 – 2013
A2: Sledované obdobie | C2: Celkový počet overených zákaziek | D2: Celková hodnota overených zákaziek v EUR (1) | E2: Počet zákaziek označených ako chybné (2) | F2: Celková hodnota zákaziek označených ako chybné (3) | G2: Chybovosť v % (4)
A3: od: | B3: =Obdobie!B2 -> 41456
A4: do: | B4: =Obdobie!B3 -> 41639
A5: Nadlimitné | C5: 0 | D5: 0 | E5: 0 | F5: 0 | G5: 0
A6: Podlimitné | C6: 0 | D6: 0 | E6: 0 | F6: 0 | G6: 0
A7: Podprahové | C7: 12 | D7: 2033352.4 | E7: 0 | F7: 0 | G7: =ROUND(F7/(D7/100),2) -> 0
A8: Nízka hodnota | C8: 21 | D8: 236338.72 | E8: 0 | F8: 0 | G8: =ROUND(F8/(D8/100),2) -> 0
A9: Celkom | C9: =SUM(C5:C8) -> 33 | D9: =SUM(D5:D8) -> 2269691.1 | E9: =SUM(E5:E8) -> 0 | F9: =SUM(F5:F8) -> 0 | G9: =ROUND(F9/(D9/100),2) -> 0
A11: Vysvetlivky k údajom v tabuľke:
A12: (1) | B12: - celková finančná hodnota všetkých verejných obstarávaní (zákaziek), ktoré boli overované (bol vydaný záznam z administratívnej kontroly verejného obstarávania), bez DPH, pričom sa uvádza cena predložená uchádzačom, ktorý bol označený ako úspešný uchádzač; v prípade výkonu administratívnej kontroly toho istého postupu verejného obstarávania pred podpisom zmluvy s úspešným uchádzačom, ako aj po podpise zmluvy s úspešným uchádzačom na ten istý predmet zákazky sa do celkovej hodnoty, ako aj do celkového počtu overovaných zákaziek takáto zákazka započítava len jeden krát
A13: (2) | B13: - počet verejných obstarávaní (zákaziek), pri ktorých bolo identifikované porušenie zákona o verejnom obstarávaní
A14: (3) | B14: - celková finančná hodnota verejných obstarávaní (zákaziek) bez DPH, pri ktorých bolo identifikované porušenie zákona o verejnom obstarávaní, a ktoré boli vylúčené z financovania alebo bola udelená korekcia
A15: (4) | B15: - (3) / (1) (hodnota uvedená v %, zaokrúhlená na 2 desatinné miesta), pričom sa uvádza percentuálny podiel chybovosti z hľadiska objemu finančných prostriedkov, nie z hľadiska početnosti prípadov

Sheet Obdobie
A1: Sledované obdobie
A2: Od: | B2: 41456
A3: Do: | B3: 41639

Sheet Program rozvoja vidieka
A1: Program rozvoja vidieka 2007 – 2013
A2: Sledované obdobie | C2: Celkový počet overených zákaziek | D2: Celková hodnota overených zákaziek v EUR (1) | E2: Počet zákaziek označených ako chybné (2) | F2: Celková hodnota zákaziek označených ako chybné (3) | G2: Chybovosť v % (4)
A3: od: | B3: =Obdobie!B2 -> 41456
A4: do: | B4: =Obdobie!B3 -> 41639
A5: Nadlimitné | C5: 0 | D5: 0 | E5: 0 | F5: 0 | G5: 0
A6: Podlimitné | C6: 0 | D6: 0 | E6: 0 | F6: 0 | G6: 0
A7: Podprahové | C7: 217 | D7: =20850481.74+9482523.82 -> 30333006 | E7: 15 | F7: 856321 | G7: =ROUND(F7/(D7/100),2) -> 2.82
A8: Nízka hodnota | C8: 234 | D8: =2232504.46+1845224 -> 4077728.5 | E8: 2 | F8: 18943.18 | G8: =ROUND(F8/(D8/100),2) -> 0.46
A9: Celkom | C9: =SUM(C5:C8) -> 451 | D9: =SUM(D5:D8) -> 34410734 | E9: =SUM(E5:E8) -> 17 | F9: =SUM(F5:F8) -> 875264.18 | G9: =ROUND(F9/(D9/100),2) -> 2.54
A11: Vysvetlivky k údajom v tabuľke:
A12: (1) | B12: - celková finančná hodnota všetkých verejných obstarávaní (zákaziek), ktoré boli overované (bol vydaný záznam z administratívnej kontroly verejného obstarávania), bez DPH, pričom sa uvádza cena predložená uchádzačom, ktorý bol označený ako úspešný uchádzač; v prípade výkonu administratívnej kontroly toho istého postupu verejného obstarávania pred podpisom zmluvy s úspešným uchádzačom, ako aj po podpise zmluvy s úspešným uchádzačom na ten istý predmet zákazky sa do celkovej hodnoty, ako aj do celkového počtu overovaných zákaziek takáto zákazka započítava len jeden krát
A13: (2) | B13: - počet verejných obstarávaní (zákaziek), pri ktorých bolo identifikované porušenie zákona o verejnom obstarávaní
A14: (3) | B14: - celková finančná hodnota verejných obstarávaní (zákaziek) bez DPH, pri ktorých bolo identifikované porušenie zákona o verejnom obstarávaní, a ktoré boli vylúčené z financovania alebo bola udelená korekcia
A15: (4) | B15: - (3) / (1) (hodnota uvedená v %, zaokrúhlená na 2 desatinné miesta), pričom sa uvádza percentuálny podiel chybovosti z hľadiska objemu finančných prostriedkov, nie z hľadiska početnosti prípadov

Sheet Sumár za OP cezhraničn spolupr
A1: Sumár za operačné programy cezhraničnej spolupráce
A2: Sledované obdobie | C2: Celkový počet overených zákaziek | D2: Celková hodnota overených zákaziek v EUR (1) | E2: Počet zákaziek označených ako chybné (2) | F2: Celková hodnota zákaziek označených ako chybné (3) | G2: Chybovosť v % (4)
A3: od: | B3: =Obdobie!B2 -> 41456
A4: do: | B4: =Obdobie!B3 -> 41639
A5: Nadlimitné | C5: ='[1]OP Maďarsko-SR'!C4+'[1]OP SR-Rakúsko'!C4+'[1]OP SR-ČR'!C4+'[1]OP Poľsko-SR'!C4+[1]ENPI!C4 -> 8 | D5: ='[1]OP Maďarsko-SR'!D4+'[1]OP SR-Rakúsko'!D4+'[1]OP SR-ČR'!D4+'[1]OP Poľsko-SR'!D4+[1]ENPI!D4 -> 2384927.7 | E5: 0 | F5: 0 | G5: =ROUND(F5/(D5/100),2) -> 0
A6: Podlimitné | C6: ='[1]OP Maďarsko-SR'!C5+'[1]OP SR-Rakúsko'!C5+'[1]OP SR-ČR'!C5+'[1]OP Poľsko-SR'!C5+[1]ENPI!C5 -> 26 | D6: ='[1]OP Maďarsko-SR'!D5+'[1]OP SR-Rakúsko'!D5+'[1]OP SR-ČR'!D5+'[1]OP Poľsko-SR'!D5+[1]ENPI!D5 -> 8160940.3 | E6: 0 | F6: 0 | G6: =ROUND(F6/(D6/100),2) -> 0
A7: Podprahové | C7: ='[1]OP Maďarsko-SR'!C6+'[1]OP SR-Rakúsko'!C6+'[1]OP SR-ČR'!C6+'[1]OP Poľsko-SR'!C6+[1]ENPI!C6 -> 25 | D7: ='[1]OP Maďarsko-SR'!D6+'[1]OP SR-Rakúsko'!D6+'[1]OP SR-ČR'!D6+'[1]OP Poľsko-SR'!D6+[1]ENPI!D6 -> 825045.45 | E7: 0 | F7: 0 | G7: =ROUND(F7/(D7/100),2) -> 0
A8: Nízka hodnota | C8: ='[1]OP Maďarsko-SR'!C7+'[1]OP SR-Rakúsko'!C7+'[1]OP SR-ČR'!C7+'[1]OP Poľsko-SR'!C7+[1]ENPI!C7 -> 79 | D8: ='[1]OP Maďarsko-SR'!D7+'[1]OP SR-Rakúsko'!D7+'[1]OP SR-ČR'!D7+'[1]OP Poľsko-SR'!D7+[1]ENPI!D7 -> 881428.21 | E8: 0 | F8: 0 | G8: =ROUND(F8/(D8/100),2) -> 0
A9: Celkom | C9: =SUM(C5:C8) -> 138 | D9: =SUM(D5:D8) -> 12252342 | E9: =SUM(E5:E8) -> 0 | F9: =SUM(F5:F8) -> 0 | G9: =ROUND(F9/(D9/100),2) -> 0
A11: Vysvetlivky k údajom v tabuľke:
A12: (1) | B12: - celková finančná hodnota všetkých verejných obstarávaní (zákaziek), ktoré boli overované (bol vydaný záznam z administratívnej kontroly verejného obstarávania), bez DPH, pričom sa uvádza cena predložená uchádzačom, ktorý bol označený ako úspešný uchádzač; v prípade výkonu administratívnej kontroly toho istého postupu verejného obstarávania pred podpisom zmluvy s úspešným uchádzačom, ako aj po podpise zmluvy s úspešným uchádzačom na ten istý predmet zákazky sa do celkovej hodnoty, ako aj do celkového počtu overovaných zákaziek takáto zákazka započítava len jeden krát
A13: (2) | B13: - počet verejných obstarávaní (zákaziek), pri ktorých bolo identifikované porušenie zákona o verejnom obstarávaní
A14: (3) | B14: - celková finančná hodnota verejných obstarávaní (zákaziek) bez DPH, pri ktorých bolo identifikované porušenie zákona o verejnom obstarávaní, a ktoré boli vylúčené z financovania alebo bola udelená korekcia
A15: (4) | B15: - (3) / (1) (hodnota uvedená v %, zaokrúhlená na 2 desatinné miesta), pričom sa uvádza percentuálny podiel chybovosti z hľadiska objemu finančných prostriedkov, nie z hľadiska početnosti prípadov

Sheet OP Maďarsko-SR
A1: Operačný program cezhraničnej spolupráce Maďarsko – Slovenská republika 2007 – 2013
A2: Sledované obdobie | C2: Celkový počet overených zákaziek | D2: Celková hodnota overených zákaziek v EUR (1) | E2: Počet zákaziek označených ako chybné (2) | F2: Celková hodnota zákaziek označených ako chybné (3) | G2: Chybovosť v % (4)
A3: od: | B3: =Obdobie!B2 -> 41456
A4: do: | B4: =Obdobie!B3 -> 41639
A5: Nadlimitné | C5: 4 | D5: 1259260.8 | E5: 0 | F5: =ROUND(E5/(C5/100),2) -> 0 | G5: =ROUND(F5/(D5/100),2) -> 0
A6: Podlimitné | C6: 22 | D6: 7116496.2 | E6: 0 | F6: =ROUND(E6/(C6/100),2) -> 0 | G6: =ROUND(F6/(D6/100),2) -> 0
A7: Podprahové | C7: 10 | D7: 353613.63 | E7: 0 | F7: =ROUND(E7/(C7/100),2) -> 0 | G7: =ROUND(F7/(D7/100),2) -> 0
A8: Nízka hodnota | C8: 34 | D8: 412745.74 | E8: 0 | F8: =ROUND(E8/(C8/100),2) -> 0 | G8: =ROUND(F8/(D8/100),2) -> 0
A9: Celkom | C9: =SUM(C5:C8) -> 70 | D9: =SUM(D5:D8) -> 9142116.4 | E9: =SUM(E5:E8) -> 0 | F9: =SUM(F5:F8) -> 0 | G9: =ROUND(F9/(D9/100),2) -> 0
A11: Vysvetlivky k údajom v tabuľke:
A12: (1) | B12: - celková finančná hodnota všetkých verejných obstarávaní (zákaziek), ktoré boli overované (H13bol vydaný záznam z administratívnej kontroly verejného obstarávania), bez DPH, pričom sa uvádza cena predložená uchádzačom, ktorý bol označený ako úspešný uchádzač; v prípade výkonu administratívnej kontroly toho istého postupu verejného obstarávania pred podpisom zmluvy s úspešným uchádzačom, ako aj po podpise zmluvy s úspešným uchádzačom na ten istý predmet zákazky sa do celkovej hodnoty, ako aj do celkového počtu overovaných zákaziek takáto zákazka započítava len jeden krát
A13: (2) | B13: - počet verejných obstarávaní (zákaziek), pri ktorých bolo identifikované porušenie zákona o verejnom obstarávaní
A14: (3) | B14: - celková finančná hodnota verejných obstarávaní (zákaziek) bez DPH, pri ktorých bolo identifikované porušenie zákona o verejnom obstarávaní, a ktoré boli vylúčené z financovania alebo bola udelená korekcia
A15: (4) | B15: - (3) / (1) (hodnota uvedená v %, zaokrúhlená na 2 desatinné miesta), pričom sa uvádza percentuálny podiel chybovosti z hľadiska objemu finančných prostriedkov, nie z hľadiska početnosti prípadov

Sheet OP SR-Rakúsko
A1: Operačný program cezhraničnej spolupráce Slovenská republika – Rakúsko 2007 – 2013
A2: Sledované obdobie | C2: Celkový počet overených zákaziek | D2: Celková hodnota overených zákaziek v EUR (1) | E2: Počet zákaziek označených ako chybné (2) | F2: Celková hodnota zákaziek označených ako chybné (3) | G2: Chybovosť v % (4)
A3: od: | B3: =Obdobie!B2 -> 41456
A4: do: | B4: =Obdobie!B3 -> 41639
A5: Nadlimitné | C5: 3 | D5: 600766.9 | E5: 0 | F5: 0 | G5: =ROUND(F5/(D5/100),2) -> 0
A6: Podlimitné | C6: 1 | D6: 122000 | E6: 0 | F6: 0 | G6: =ROUND(F6/(D6/100),2) -> 0
A7: Podprahové | C7: 4 | D7: 68000 | E7: 0 | F7: 0 | G7: =ROUND(F7/(D7/100),2) -> 0
A8: Nízka hodnota | C8: 20 | D8: 169000 | E8: 0 | F8: 0 | G8: =ROUND(F8/(D8/100),2) -> 0
A9: Celkom | C9: =SUM(C5:C8) -> 28 | D9: =SUM(D5:D8) -> 959766.9 | E9: =SUM(E5:E8) -> 0 | F9: =SUM(F5:F8) -> 0 | G9: =ROUND(F9/(D9/100),2) -> 0
A11: Vysvetlivky k údajom v tabuľke:
A12: (1) | B12: - celková finančná hodnota všetkých verejných obstarávaní (zákaziek), ktoré boli overované (bol vydaný záznam z administratívnej kontroly verejného obstarávania), bez DPH, pričom sa uvádza cena predložená uchádzačom, ktorý bol označený ako úspešný uchádzač; v prípade výkonu administratívnej kontroly toho istého postupu verejného obstarávania pred podpisom zmluvy s úspešným uchádzačom, ako aj po podpise zmluvy s úspešným uchádzačom na ten istý predmet zákazky sa do celkovej hodnoty, ako aj do celkového počtu overovaných zákaziek takáto zákazka započítava len jeden krát
A13: (2) | B13: - počet verejných obstarávaní (zákaziek), pri ktorých bolo identifikované porušenie zákona o verejnom obstarávaní
A14: (3) | B14: - celková finančná hodnota verejných obstarávaní (zákaziek) bez DPH, pri ktorých bolo identifikované porušenie zákona o verejnom obstarávaní, a ktoré boli vylúčené z financovania alebo bola udelená korekcia
A15: (4) | B15: - (3) / (1) (hodnota uvedená v %, zaokrúhlená na 2 desatinné miesta), pričom sa uvádza percentuálny podiel chybovosti z hľadiska objemu finančných prostriedkov, nie z hľadiska početnosti prípadov

Sheet OP SR-ČR
A1: Operačný program cezhraničnej spolupráce Slovenská republika – Česká republika 2007 – 2013
A2: Sledované obdobie | C2: Celkový počet overených zákaziek | D2: Celková hodnota overených zákaziek v EUR (1) | E2: Počet zákaziek označených ako chybné (2) | F2: Celková hodnota zákaziek označených ako chybné (3) | G2: Chybovosť v % (4)
A3: od: | B3: =Obdobie!B2 -> 41456
A4: do: | B4: =Obdobie!B3 -> 41639
A5: Nadlimitné | C5: 1 | D5: 524900 | E5: 0 | G5: =ROUND(F5/(D5/100),2) -> 0
A6: Podlimitné | C6: 1 | D6: 81996.43 | E6: 0 | G6: =ROUND(F6/(D6/100),2) -> 0
A7: Podprahové | C7: 7 | D7: 254197.42 | E7: 0 | G7: =ROUND(F7/(D7/100),2) -> 0
A8: Nízka hodnota | C8: 10 | D8: 166267.19 | E8: 0 | G8: =ROUND(F8/(D8/100),2) -> 0
A9: Celkom | C9: =SUM(C5:C8) -> 19 | D9: =SUM(D5:D8) -> 1027361 | E9: =SUM(E5:E8) -> 0 | F9: =SUM(F5:F8) -> 0 | G9: =ROUND(F9/(D9/100),2) -> 0
A11: Vysvetlivky k údajom v tabuľke:
A12: (1) | B12: - celková finančná hodnota všetkých verejných obstarávaní (zákaziek), ktoré boli overované (bol vydaný záznam z administratívnej kontroly verejného obstarávania), bez DPH, pričom sa uvádza cena predložená uchádzačom, ktorý bol označený ako úspešný uchádzač; v prípade výkonu administratívnej kontroly toho istého postupu verejného obstarávania pred podpisom zmluvy s úspešným uchádzačom, ako aj po podpise zmluvy s úspešným uchádzačom na ten istý predmet zákazky sa do celkovej hodnoty, ako aj do celkového počtu overovaných zákaziek takáto zákazka započítava len jeden krát
A13: (2) | B13: - počet verejných obstarávaní (zákaziek), pri ktorých bolo identifikované porušenie zákona o verejnom obstarávaní
A14: (3) | B14: - celková finančná hodnota verejných obstarávaní (zákaziek) bez DPH, pri ktorých bolo identifikované porušenie zákona o verejnom obstarávaní, a ktoré boli vylúčené z financovania alebo bola udelená korekcia
A15: (4) | B15: - (3) / (1) (hodnota uvedená v %, zaokrúhlená na 2 desatinné miesta), pričom sa uvádza percentuálny podiel chybovosti z hľadiska objemu finančných prostriedkov, nie z hľadiska početnosti prípadov

Sheet OP Poľsko-SR
A1: Operačný program cezhraničnej spolupráce Poľská republika – Slovenská republika 2007 – 2013
A2: Sledované obdobie | C2: Celkový počet overených zákaziek | D2: Celková hodnota overených zákaziek v EUR (1) | E2: Počet zákaziek označených ako chybné (2) | F2: Celková hodnota zákaziek označených ako chybné (3) | G2: Chybovosť v % (4)
A3: od: | B3: =Obdobie!B2 -> 41456
A4: do: | B4: =Obdobie!B3 -> 41639
A5: Nadlimitné | C5: 0 | D5: 0 | E5: 0 | F5: 0 | G5: 0
A6: Podlimitné | C6: 1 | D6: 653364.33 | E6: 0 | F6: 0 | G6: =ROUND(F6/(D6/100),2) -> 0
A7: Podprahové | C7: 0 | D7: 0 | E7: 0 | F7: 0 | G7: 0
A8: Nízka hodnota | C8: 7 | D8: 79026.28 | E8: 0 | F8: 0 | G8: =ROUND(F8/(D8/100),2) -> 0
A9: Celkom | C9: =SUM(C5:C8) -> 8 | D9: =SUM(D5:D8) -> 732390.61 | E9: =SUM(E5:E8) -> 0 | F9: =SUM(F5:F8) -> 0 | G9: =ROUND(F9/(D9/100),2) -> 0
A11: Vysvetlivky k údajom v tabuľke:
A12: (1) | B12: - celková finančná hodnota všetkých verejných obstarávaní (zákaziek), ktoré boli overované (bol vydaný záznam z administratívnej kontroly verejného obstarávania), bez DPH, pričom sa uvádza cena predložená uchádzačom, ktorý bol označený ako úspešný uchádzač; v prípade výkonu administratívnej kontroly toho istého postupu verejného obstarávania pred podpisom zmluvy s úspešným uchádzačom, ako aj po podpise zmluvy s úspešným uchádzačom na ten istý predmet zákazky sa do celkovej hodnoty, ako aj do celkového počtu overovaných zákaziek takáto zákazka započítava len jeden krát
A13: (2) | B13: - počet verejných obstarávaní (zákaziek), pri ktorých bolo identifikované porušenie zákona o verejnom obstarávaní
A14: (3) | B14: - celková finančná hodnota verejných obstarávaní (zákaziek) bez DPH, pri ktorých bolo identifikované porušenie zákona o verejnom obstarávaní, a ktoré boli vylúčené z financovania alebo bola udelená korekcia
A15: (4) | B15: - (3) / (1) (hodnota uvedená v %, zaokrúhlená na 2 desatinné miesta), pričom sa uvádza percentuálny podiel chybovosti z hľadiska objemu finančných prostriedkov, nie z hľadiska početnosti prípadov

Sheet EÚ nástroj SuSpolupr
A1: Operačný program cezhraničnej spolupráce ENPI Maďarsko – Rumunsko – Slovensko – Ukrajina 2007 – 2013
A2: Sledované obdobie | C2: Celkový počet overených zákaziek | D2: Celková hodnota overených zákaziek v EUR (1) | E2: Počet zákaziek označených ako chybné (2) | F2: Celková hodnota zákaziek označených ako chybné (3) | G2: Chybovosť v % (4)
A3: od: | B3: =Obdobie!B2 -> 41456
A4: do: | B4: =Obdobie!B3 -> 41639
A5: Nadlimitné | C5: 0 | D5: 0 | E5: 0 | F5: 0 | G5: 0
A6: Podlimitné | C6: 1 | D6: 187083.3 | E6: 0 | F6: 0 | G6: =ROUND(F6/(D6/100),2) -> 0
A7: Podprahové | C7: 4 | D7: 149234.4 | E7: 0 | F7: 0 | G7: =ROUND(F7/(D7/100),2) -> 0
A8: Nízka hodnota | C8: 8 | D8: 54389 | E8: 0 | F8: 0 | G8: =ROUND(F8/(D8/100),2) -> 0
A9: Celkom | C9: =SUM(C5:C8) -> 13 | D9: =SUM(D5:D8) -> 390706.7 | E9: =SUM(E5:E8) -> 0 | F9: =SUM(F5:F8) -> 0 | G9: =ROUND(F9/(D9/100),2) -> 0
A11: Vysvetlivky k údajom v tabuľke:
A12: (1) | B12: - celková finančná hodnota všetkých verejných obstarávaní (zákaziek), ktoré boli overované (bol vydaný záznam z administratívnej kontroly verejného obstarávania), bez DPH, pričom sa uvádza cena predložená uchádzačom, ktorý bol označený ako úspešný uchádzač; v prípade výkonu administratívnej kontroly toho istého postupu verejného obstarávania pred podpisom zmluvy s úspešným uchádzačom, ako aj po podpise zmluvy s úspešným uchádzačom na ten istý predmet zákazky sa do celkovej hodnoty, ako aj do celkového počtu overovaných zákaziek takáto zákazka započítava len jeden krát
A13: (2) | B13: - počet verejných obstarávaní (zákaziek), pri ktorých bolo identifikované porušenie zákona o verejnom obstarávaní
A14: (3) | B14: - celková finančná hodnota verejných obstarávaní (zákaziek) bez DPH, pri ktorých bolo identifikované porušenie zákona o verejnom obstarávaní, a ktoré boli vylúčené z financovania alebo bola udelená korekcia
A15: (4) | B15: - (3) / (1) (hodnota uvedená v %, zaokrúhlená na 2 desatinné miesta), pričom sa uvádza percentuálny podiel chybovosti z hľadiska objemu finančných prostriedkov, nie z hľadiska početnosti prípadov

Sheet OP INTERREG
A1: Operačný program INTERREG IVC
A2: Sledované obdobie | C2: Celkový počet overených zákaziek | D2: Celková hodnota overených zákaziek v EUR (1) | E2: Počet zákaziek označených ako chybné (2) | F2: Celková hodnota zákaziek označených ako chybné (3) | G2: Chybovosť v % (4)
A3: od: | B3: =Obdobie!B2 -> 41456
A4: do: | B4: =Obdobie!B3 -> 41639
A5: Nadlimitné | C5: 0 | D5: 0 | E5: 0 | F5: 0 | G5: 0
A6: Podlimitné | C6: 0 | D6: 0 | E6: 0 | F6: 0 | G6: 0
A7: Podprahové | C7: 0 | D7: 0 | E7: 0 | F7: 0 | G7: 0
A8: Nízka hodnota | C8: 20 | D8: 44568.22 | E8: 0 | F8: 0 | G8: =ROUND(F8/(D8/100),2) -> 0
A9: Celkom | C9: =SUM(C5:C8) -> 20 | D9: =SUM(D5:D8) -> 44568.22 | E9: =SUM(E5:E8) -> 0 | F9: =SUM(F5:F8) -> 0 | G9: =ROUND(F9/(D9/100),2) -> 0
A11: Vysvetlivky k údajom v tabuľke:
A12: (1) | B12: - celková finančná hodnota všetkých verejných obstarávaní (zákaziek), ktoré boli overované (bol vydaný záznam z administratívnej kontroly verejného obstarávania), bez DPH, pričom sa uvádza cena predložená uchádzačom, ktorý bol označený ako úspešný uchádzač; v prípade výkonu administratívnej kontroly toho istého postupu verejného obstarávania pred podpisom zmluvy s úspešným uchádzačom, ako aj po podpise zmluvy s úspešným uchádzačom na ten istý predmet zákazky sa do celkovej hodnoty, ako aj do celkového počtu overovaných zákaziek takáto zákazka započítava len jeden krát
A13: (2) | B13: - počet verejných obstarávaní (zákaziek), pri ktorých bolo identifikované porušenie zákona o verejnom obstarávaní
A14: (3) | B14: - celková finančná hodnota verejných obstarávaní (zákaziek) bez DPH, pri ktorých bolo identifikované porušenie zákona o verejnom obstarávaní, a ktoré boli vylúčené z financovania alebo bola udelená korekcia
A15: (4) | B15: - (3) / (1) (hodnota uvedená v %, zaokrúhlená na 2 desatinné miesta), pričom sa uvádza percentuálny podiel chybovosti z hľadiska objemu finančných prostriedkov, nie z hľadiska početnosti prípadov

Sheet OP INTERACT
A1: Operačný program INTERACT II
A2: Sledované obdobie | C2: Celkový počet overených zákaziek | D2: Celková hodnota overených zákaziek v EUR (1) | E2: Počet zákaziek označených ako chybné (2) | F2: Celková hodnota zákaziek označených ako chybné (3) | G2: Chybovosť v % (4)
A3: od: | B3: =Obdobie!B2 -> 41456
A4: do: | B4: =Obdobie!B3 -> 41639
A5: Nadlimitné | C5: 0 | D5: 0 | E5: 0 | F5: 0 | G5: 0
A6: Podlimitné | C6: 0 | D6: 0 | E6: 0 | F6: 0 | G6: 0
A7: Podprahové | C7: 0 | D7: 0 | E7: 0 | F7: 0 | G7: 0
A8: Nízka hodnota | C8: 32 | D8: 74038.85 | E8: 0 | F8: 0 | G8: 0
A9: Celkom | C9: 32 | D9: 74038.85 | E9: 0 | F9: 0 | G9: 0
A11: Vysvetlivky k údajom v tabuľke:
A12: (1) | B12: - celková finančná hodnota všetkých verejných obstarávaní (zákaziek), ktoré boli overované (bol vydaný záznam z administratívnej kontroly verejného obstarávania), bez DPH, pričom sa uvádza cena predložená uchádzačom, ktorý bol označený ako úspešný uchádzač; v prípade výkonu administratívnej kontroly toho istého postupu verejného obstarávania pred podpisom zmluvy s úspešným uchádzačom, ako aj po podpise zmluvy s úspešným uchádzačom na ten istý predmet zákazky sa do celkovej hodnoty, ako aj do celkového počtu overovaných zákaziek takáto zákazka započítava len jeden krát
A13: (2) | B13: - počet verejných obstarávaní (zákaziek), pri ktorých bolo identifikované porušenie zákona o verejnom obstarávaní
A14: (3) | B14: - celková finančná hodnota verejných obstarávaní (zákaziek) bez DPH, pri ktorých bolo identifikované porušenie zákona o verejnom obstarávaní, a ktoré boli vylúčené z financovania alebo bola udelená korekcia
A15: (4) | B15: - (3) / (1) (hodnota uvedená v %, zaokrúhlená na 2 desatinné miesta), pričom sa uvádza percentuálny podiel chybovosti z hľadiska objemu finančných prostriedkov, nie z hľadiska početnosti prípadov

Sheet OP SEuropa
A1: Operačný program Stredná Európa
A2: Sledované obdobie | C2: Celkový počet overených zákaziek | D2: Celková hodnota overených zákaziek v EUR (1) | E2: Počet zákaziek označených ako chybné (2) | F2: Celková hodnota zákaziek označených ako chybné (3) | G2: Chybovosť v % (4)
A3: od: | B3: =Obdobie!B2 -> 41456
A4: do: | B4: =Obdobie!B3 -> 41639
A5: Nadlimitné | C5: 0 | D5: 0 | E5: 0 | F5: 0 | G5: 0
A6: Podlimitné | C6: 0 | D6: 0 | E6: 0 | F6: 0 | G6: 0
A7: Podprahové | C7: 0 | D7: 0 | E7: 0 | F7: 0 | G7: 0
A8: Nízka hodnota | C8: 25 | D8: 124776.13 | E8: 3 | F8: 21920 | G8: 17.57
A9: Celkom | C9: 25 | D9: 124776.13 | E9: 3 | F9: 21920 | G9: 17.57
A11: Vysvetlivky k údajom v tabuľke:
A12: (1) | B12: - celková finančná hodnota všetkých verejných obstarávaní (zákaziek), ktoré boli overované (bol vydaný záznam z administratívnej kontroly verejného obstarávania), bez DPH, pričom sa uvádza cena predložená uchádzačom, ktorý bol označený ako úspešný uchádzač; v prípade výkonu administratívnej kontroly toho istého postupu verejného obstarávania pred podpisom zmluvy s úspešným uchádzačom, ako aj po podpise zmluvy s úspešným uchádzačom na ten istý predmet zákazky sa do celkovej hodnoty, ako aj do celkového počtu overovaných zákaziek takáto zákazka započítava len jeden krát
A13: (2) | B13: - počet verejných obstarávaní (zákaziek), pri ktorých bolo identifikované porušenie zákona o verejnom obstarávaní
A14: (3) | B14: - celková finančná hodnota verejných obstarávaní (zákaziek) bez DPH, pri ktorých bolo identifikované porušenie zákona o verejnom obstarávaní, a ktoré boli vylúčené z financovania alebo bola udelená korekcia
A15: (4) | B15: - (3) / (1) (hodnota uvedená v %, zaokrúhlená na 2 desatinné miesta), pričom sa uvádza percentuálny podiel chybovosti z hľadiska objemu finančných prostriedkov, nie z hľadiska početnosti prípadov

Sheet OP JVEuropa
A1: Operačný program Juhovýchodná Európa
A2: Sledované obdobie | C2: Celkový počet overených zákaziek | D2: Celková hodnota overených zákaziek v EUR (1) | E2: Počet zákaziek označených ako chybné (2) | F2: Celková hodnota zákaziek označených ako chybné (3) | G2: Chybovosť v % (4)
A3: od: | B3: =Obdobie!B2 -> 41456
A4: do: | B4: =Obdobie!B3 -> 41639
A5: Nadlimitné | C5: 0 | D5: 0 | E5: 0 | F5: 0 | G5: 0
A6: Podlimitné | C6: 8 | D6: 128409.33 | E6: 2 | F6: 61790 | G6: 48.12
A7: Podprahové | C7: 4 | D7: 61923.33 | E7: 3 | F7: 53525 | G7: 86.44
A8: Nízka hodnota | C8: 28 | D8: 173924.04 | E8: 3 | F8: 27150 | G8: 15.61
A9: Celkom | C9: 40 | D9: 364256.7 | E9: 8 | F9: 142465 | G9: 39.11
A11: Vysvetlivky k údajom v tabuľke:
A12: (1) | B12: - celková finančná hodnota všetkých verejných obstarávaní (zákaziek), ktoré boli overované (bol vydaný záznam z administratívnej kontroly verejného obstarávania), bez DPH, pričom sa uvádza cena predložená uchádzačom, ktorý bol označený ako úspešný uchádzač; v prípade výkonu administratívnej kontroly toho istého postupu verejného obstarávania pred podpisom zmluvy s úspešným uchádzačom, ako aj po podpise zmluvy s úspešným uchádzačom na ten istý predmet zákazky sa do celkovej hodnoty, ako aj do celkového počtu overovaných zákaziek takáto zákazka započítava len jeden krát
A13: (2) | B13: - počet verejných obstarávaní (zákaziek), pri ktorých bolo identifikované porušenie zákona o verejnom obstarávaní
A14: (3) | B14: - celková finančná hodnota verejných obstarávaní (zákaziek) bez DPH, pri ktorých bolo identifikované porušenie zákona o verejnom obstarávaní, a ktoré boli vylúčené z financovania alebo bola udelená korekcia
A15: (4) | B15: - (3) / (1) (hodnota uvedená v %, zaokrúhlená na 2 desatinné miesta), pričom sa uvádza percentuálny podiel chybovosti z hľadiska objemu finančných prostriedkov, nie z hľadiska početnosti prípadov

Sheet Certifikáca NSRR
A1: Certifikácia v oblasti NSRR 2007 – 2013
A2: Sledované obdobie | C2: Celkový počet overených zákaziek | D2: Celková hodnota overených zákaziek v EUR (1) | E2: Počet zákaziek označených ako chybné (2) | F2: Celková hodnota zákaziek označených ako chybné (3) | G2: Chybovosť v % (4)
A3: od: | B3: =Obdobie!B2 -> 41456
A4: do: | B4: =Obdobie!B3 -> 41639
A5: Nadlimitné | C5: 0 | D5: 0 | E5: 0 | F5: 0 | G5: 0
A6: Podlimitné | C6: 2 | D6: 2394263.5 | E6: 1 | F6: 338333.34 | G6: =ROUND(F6/(D6/100),2) -> 14.13
A7: Podprahové | C7: 0 | D7: 0 | E7: 0 | F7: 0 | G7: 0
A8: Nízka hodnota | C8: 0 | D8: 0 | E8: 0 | F8: 0 | G8: 0
A9: Celkom | C9: =SUM(C5:C8) -> 2 | D9: =SUM(D5:D8) -> 2394263.5 | E9: =SUM(E5:E8) -> 1 | F9: =SUM(F5:F8) -> 338333.34 | G9: =ROUND(F9/(D9/100),2) -> 14.13
A11: Vysvetlivky k údajom v tabuľke:
A12: (1) | B12: - celková finančná hodnota všetkých verejných obstarávaní (zákaziek), ktoré boli overované (bol vydaný záznam z administratívnej kontroly verejného obstarávania), bez DPH, pričom sa uvádza cena predložená uchádzačom, ktorý bol označený ako úspešný uchádzač; v prípade výkonu administratívnej kontroly toho istého postupu verejného obstarávania pred podpisom zmluvy s úspešným uchádzačom, ako aj po podpise zmluvy s úspešným uchádzačom na ten istý predmet zákazky sa do celkovej hodnoty, ako aj do celkového počtu overovaných zákaziek takáto zákazka započítava len jeden krát
A13: (2) | B13: - počet verejných obstarávaní (zákaziek), pri ktorých bolo identifikované porušenie zákona o verejnom obstarávaní
A14: (3) | B14: - celková finančná hodnota verejných obstarávaní (zákaziek) bez DPH, pri ktorých bolo identifikované porušenie zákona o verejnom obstarávaní, a ktoré boli vylúčené z financovania alebo bola udelená korekcia
A15: (4) | B15: - (3) / (1) (hodnota uvedená v %, zaokrúhlená na 2 desatinné miesta), pričom sa uvádza percentuálny podiel chybovosti z hľadiska objemu finančných prostriedkov, nie z hľadiska početnosti prípadov

Sheet Certifikácia EÚ územná spolupr
A1: Certifikácia v programoch cieľa Európska územná spolupráca
A2: Sledované obdobie | C2: Celkový počet overených zákaziek | D2: Celková hodnota overených zákaziek v EUR (1) | E2: Počet zákaziek označených ako chybné (2) | F2: Celková hodnota zákaziek označených ako chybné (3) | G2: Chybovosť v % (4)
A3: od: | B3: =Obdobie!B2 -> 41456
A4: do: | B4: =Obdobie!B3 -> 41639
A5: Nadlimitné | C5: 0 | D5: 0 | E5: 0 | F5: 0 | G5: 0
A6: Podlimitné | C6: 0 | D6: 0 | E6: 0 | F6: 0 | G6: 0
A7: Podprahové | C7: 1 | D7: 16800 | E7: 1 | F7: 16800 | G7: =ROUND(F7/(D7/100),2) -> 100
A8: Nízka hodnota | C8: 0 | D8: 0 | E8: 0 | F8: 0 | G8: 0
A9: Celkom | C9: =SUM(C5:C8) -> 1 | D9: =SUM(D5:D8) -> 16800 | E9: =SUM(E5:E8) -> 1 | F9: =SUM(F5:F8) -> 16800 | G9: =ROUND(F9/(D9/100),2) -> 100
A11: Vysvetlivky k údajom v tabuľke:
A12: (1) | B12: - celková finančná hodnota všetkých verejných obstarávaní (zákaziek), ktoré boli overované (bol vydaný záznam z administratívnej kontroly verejného obstarávania), bez DPH, pričom sa uvádza cena predložená uchádzačom, ktorý bol označený ako úspešný uchádzač; v prípade výkonu administratívnej kontroly toho istého postupu verejného obstarávania pred podpisom zmluvy s úspešným uchádzačom, ako aj po podpise zmluvy s úspešným uchádzačom na ten istý predmet zákazky sa do celkovej hodnoty, ako aj do celkového počtu overovaných zákaziek takáto zákazka započítava len jeden krát
A13: (2) | B13: - počet verejných obstarávaní (zákaziek), pri ktorých bolo identifikované porušenie zákona o verejnom obstarávaní
A14: (3) | B14: - celková finančná hodnota verejných obstarávaní (zákaziek) bez DPH, pri ktorých bolo identifikované porušenie zákona o verejnom obstarávaní, a ktoré boli vylúčené z financovania alebo bola udelená korekcia
A15: (4) | B15: - (3) / (1) (hodnota uvedená v %, zaokrúhlená na 2 desatinné miesta), pričom sa uvádza percentuálny podiel chybovosti z hľadiska objemu finančných prostriedkov, nie z hľadiska početnosti prípadov

Sheet Certifikácia INTERACT
A1: Certifikácia v operačnom programe INTERACT II
A2: Sledované obdobie | C2: Celkový počet overených zákaziek | D2: Celková hodnota overených zákaziek v EUR (1) | E2: Počet zákaziek označených ako chybné (2) | F2: Celková hodnota zákaziek označených ako chybné (3) | G2: Chybovosť v % (4)
A3: od: | B3: =Obdobie!B2 -> 41456
A4: do: | B4: =Obdobie!B3 -> 41639
A5: Nadlimitné | C5: 0 | D5: 0 | E5: 0 | F5: 0 | G5: 0
A6: Podlimitné | C6: 0 | D6: 0 | E6: 0 | F6: 0 | G6: 0
A7: Podprahové | C7: 0 | D7: 0 | E7: 0 | F7: 0 | G7: 0
A8: Nízka hodnota | C8: 0 | D8: 0 | E8: 0 | F8: 0 | G8: 0
A9: Celkom | C9: =SUM(C5:C8) -> 0 | D9: =SUM(D5:D8) -> 0 | E9: =SUM(E5:E8) -> 0 | F9: =SUM(F5:F8) -> 0 | G9: 0
A11: Vysvetlivky k údajom v tabuľke:
A12: (1) | B12: - celková finančná hodnota všetkých verejných obstarávaní (zákaziek), ktoré boli overované (bol vydaný záznam z administratívnej kontroly verejného obstarávania), bez DPH, pričom sa uvádza cena predložená uchádzačom, ktorý bol označený ako úspešný uchádzač; v prípade výkonu administratívnej kontroly toho istého postupu verejného obstarávania pred podpisom zmluvy s úspešným uchádzačom, ako aj po podpise zmluvy s úspešným uchádzačom na ten istý predmet zákazky sa do celkovej hodnoty, ako aj do celkového počtu overovaných zákaziek takáto zákazka započítava len jeden krát
A13: (2) | B13: - počet verejných obstarávaní (zákaziek), pri ktorých bolo identifikované porušenie zákona o verejnom obstarávaní
A14: (3) | B14: - celková finančná hodnota verejných obstarávaní (zákaziek) bez DPH, pri ktorých bolo identifikované porušenie zákona o verejnom obstarávaní, a ktoré boli vylúčené z financovania alebo bola udelená korekcia
A15: (4) | B15: - (3) / (1) (hodnota uvedená v %, zaokrúhlená na 2 desatinné miesta), pričom sa uvádza percentuálny podiel chybovosti z hľadiska objemu finančných prostriedkov, nie z hľadiska početnosti prípadov

Sheet Certifikácia Rybné hosp
A1: Certifikácia v operačnom programe Rybné hospodárstvo SR 2007 – 2013
A2: Sledované obdobie | C2: Celkový počet overených zákaziek | D2: Celková hodnota overených zákaziek v EUR (1) | E2: Počet zákaziek označených ako chybné (2) | F2: Celková hodnota zákaziek označených ako chybné (3) | G2: Chybovosť v % (4)
A3: od: | B3: =Obdobie!B2 -> 41456
A4: do: | B4: =Obdobie!B3 -> 41639
A5: Nadlimitné | C5: 0 | D5: 0 | E5: 0 | F5: 0 | G5: 0
A6: Podlimitné | C6: 0 | D6: 0 | E6: 0 | F6: 0 | G6: 0
A7: Podprahové | C7: 0 | D7: 0 | E7: 0 | F7: 0 | G7: 0
A8: Nízka hodnota | C8: 0 | D8: 0 | E8: 0 | F8: 0 | G8: 0
A9: Celkom | C9: =SUM(C5:C8) -> 0 | D9: =SUM(D5:D8) -> 0 | E9: =SUM(E5:E8) -> 0 | F9: =SUM(F5:F8) -> 0 | G9: 0
A11: Vysvetlivky k údajom v tabuľke:
A12: (1) | B12: - celková finančná hodnota všetkých verejných obstarávaní (zákaziek), ktoré boli overované (bol vydaný záznam z administratívnej kontroly verejného obstarávania), bez DPH, pričom sa uvádza cena predložená uchádzačom, ktorý bol označený ako úspešný uchádzač; v prípade výkonu administratívnej kontroly toho istého postupu verejného obstarávania pred podpisom zmluvy s úspešným uchádzačom, ako aj po podpise zmluvy s úspešným uchádzačom na ten istý predmet zákazky sa do celkovej hodnoty, ako aj do celkového počtu overovaných zákaziek takáto zákazka započítava len jeden krát
A13: (2) | B13: - počet verejných obstarávaní (zákaziek), pri ktorých bolo identifikované porušenie zákona o verejnom obstarávaní
A14: (3) | B14: - celková finančná hodnota verejných obstarávaní (zákaziek) bez DPH, pri ktorých bolo identifikované porušenie zákona o verejnom obstarávaní, a ktoré boli vylúčené z financovania alebo bola udelená korekcia
A15: (4) | B15: - (3) / (1) (hodnota uvedená v %, zaokrúhlená na 2 desatinné miesta), pričom sa uvádza percentuálny podiel chybovosti z hľadiska objemu finančných prostriedkov, nie z hľadiska početnosti prípadov

Sheet Audity NSRR
A1: Vládne audity za NSRR 2007 – 2013
A2: Sledované obdobie | C2: Celkový počet overených zákaziek | D2: Celková hodnota overených zákaziek v EUR (1) | E2: Počet zákaziek označených ako chybné (2) | F2: Celková hodnota zákaziek označených ako chybné (3) | G2: Chybovosť v % (4)
A3: od: | B3: =Obdobie!B2 -> 41456
A4: do: | B4: =Obdobie!B3 -> 41639
A5: Nadlimitné | C5: 127 | D5: 1.0640428e+09 | E5: 11 | F5: 1.0235814e+08 | G5: =ROUND(F5/(D5/100),2) -> 9.62
A6: Podlimitné | C6: 93 | D6: 91065765 | E6: 4 | F6: 5967124.5 | G6: =ROUND(F6/(D6/100),2) -> 6.55
A7: Podprahové | C7: 121 | D7: 52517249 | E7: 14 | F7: 4776244.1 | G7: =ROUND(F7/(D7/100),2) -> 9.09
A8: Nízka hodnota | C8: 405 | D8: 4457443 | E8: 38 | F8: 967775.99 | G8: =ROUND(F8/(D8/100),2) -> 21.71
A9: Celkom | C9: =SUM(C5:C8) -> 746 | D9: =SUM(D5:D8) -> 1.2120832e+09 | E9: =SUM(E5:E8) -> 67 | F9: =SUM(F5:F8) -> 1.1406928e+08 | G9: =ROUND(F9/(D9/100),2) -> 9.41
A11: Vysvetlivky k údajom v tabuľke:
A12: (1) | B12: - celková finančná hodnota všetkých verejných obstarávaní (zákaziek), ktoré boli overované (bol vydaný záznam z administratívnej kontroly verejného obstarávania), bez DPH, pričom sa uvádza cena predložená uchádzačom, ktorý bol označený ako úspešný uchádzač; v prípade výkonu administratívnej kontroly toho istého postupu verejného obstarávania pred podpisom zmluvy s úspešným uchádzačom, ako aj po podpise zmluvy s úspešným uchádzačom na ten istý predmet zákazky sa do celkovej hodnoty, ako aj do celkového počtu overovaných zákaziek takáto zákazka započítava len jeden krát
A13: (2) | B13: - počet verejných obstarávaní (zákaziek), pri ktorých bolo identifikované porušenie zákona o verejnom obstarávaní
A14: (3) | B14: - celková finančná hodnota verejných obstarávaní (zákaziek) bez DPH, pri ktorých bolo identifikované porušenie zákona o verejnom obstarávaní, a ktoré boli vylúčené z financovania alebo bola udelená korekcia
A15: (4) | B15: - (3) / (1) (hodnota uvedená v %, zaokrúhlená na 2 desatinné miesta), pričom sa uvádza percentuálny podiel chybovosti z hľadiska objemu finančných prostriedkov, nie z hľadiska početnosti prípadov

Sheet Audity EÚ územná spolupr
A1: Vládne audity v oblasti Európskej územnej spolupráce
A2: Sledované obdobie | C2: Celkový počet overených zákaziek | D2: Celková hodnota overených zákaziek v EUR (1) | E2: Počet zákaziek označených ako chybné (2) | F2: Celková hodnota zákaziek označených ako chybné (3) | G2: Chybovosť v % (4)
A3: od: | B3: =Obdobie!B2 -> 41456
A4: do: | B4: =Obdobie!B3 -> 41639
A5: Nadlimitné | C5: ='[2]OP SR-ČR'!C4+'[2]OP Poľsko-SR'!C4 -> 2 | D5: ='[2]OP SR-ČR'!D4+'[2]OP Poľsko-SR'!D4 -> 939232.5 | E5: ='[2]OP SR-ČR'!E4+'[2]OP Poľsko-SR'!E4 -> 0 | F5: ='[2]OP SR-ČR'!F4+'[2]OP Poľsko-SR'!F4 -> 0 | G5: =ROUND(F5/(D5/100),2) -> 0
A6: Podlimitné | C6: ='[2]OP SR-ČR'!C5+'[2]OP Poľsko-SR'!C5 -> 10 | D6: ='[2]OP SR-ČR'!D5+'[2]OP Poľsko-SR'!D5 -> 7838901.1 | E6: ='[2]OP SR-ČR'!E5+'[2]OP Poľsko-SR'!E5 -> 0 | F6: ='[2]OP SR-ČR'!F5+'[2]OP Poľsko-SR'!F5 -> 0 | G6: =ROUND(F6/(D6/100),2) -> 0
A7: Podprahové | C7: ='[2]OP SR-ČR'!C6+'[2]OP Poľsko-SR'!C6 -> 16 | D7: ='[2]OP SR-ČR'!D6+'[2]OP Poľsko-SR'!D6 -> 1533208.1 | E7: ='[2]OP SR-ČR'!E6+'[2]OP Poľsko-SR'!E6 -> 0 | F7: ='[2]OP SR-ČR'!F6+'[2]OP Poľsko-SR'!F6 -> 0 | G7: =ROUND(F7/(D7/100),2) -> 0
A8: Nízka hodnota | C8: ='[2]OP SR-ČR'!C7+'[2]OP Poľsko-SR'!C7 -> 134 | D8: ='[2]OP SR-ČR'!D7+'[2]OP Poľsko-SR'!D7 -> 537553.38 | E8: ='[2]OP SR-ČR'!E7+'[2]OP Poľsko-SR'!E7 -> 0 | F8: ='[2]OP SR-ČR'!F7+'[2]OP Poľsko-SR'!F7 -> 0 | G8: =ROUND(F8/(D8/100),2) -> 0
A9: Celkom | C9: =SUM(C5:C8) -> 162 | D9: =SUM(D5:D8) -> 10848895 | E9: =SUM(E5:E8) -> 0 | F9: =SUM(F5:F8) -> 0 | G9: =ROUND(F9/(D9/100),2) -> 0
A11: Vysvetlivky k údajom v tabuľke:
A12: (1) | B12: - celková finančná hodnota všetkých verejných obstarávaní (zákaziek), ktoré boli overované (bol vydaný záznam z administratívnej kontroly verejného obstarávania), bez DPH, pričom sa uvádza cena predložená uchádzačom, ktorý bol označený ako úspešný uchádzač; v prípade výkonu administratívnej kontroly toho istého postupu verejného obstarávania pred podpisom zmluvy s úspešným uchádzačom, ako aj po podpise zmluvy s úspešným uchádzačom na ten istý predmet zákazky sa do celkovej hodnoty, ako aj do celkového počtu overovaných zákaziek takáto zákazka započítava len jeden krát
A13: (2) | B13: - počet verejných obstarávaní (zákaziek), pri ktorých bolo identifikované porušenie zákona o verejnom obstarávaní
A14: (3) | B14: - celková finančná hodnota verejných obstarávaní (zákaziek) bez DPH, pri ktorých bolo identifikované porušenie zákona o verejnom obstarávaní, a ktoré boli vylúčené z financovania alebo bola udelená korekcia
A15: (4) | B15: - (3) / (1) (hodnota uvedená v %, zaokrúhlená na 2 desatinné miesta), pričom sa uvádza percentuálny podiel chybovosti z hľadiska objemu finančných prostriedkov, nie z hľadiska početnosti prípadov

Sheet Audity OP SR-ČR
A1: Cezhraničná spolupráca SR - ČR - audit operácií
A2: Sledované obdobie | C2: Celkový počet overených zákaziek | D2: Celková hodnota overených zákaziek v EUR (1) | E2: Počet zákaziek označených ako chybné (2) | F2: Celková hodnota zákaziek označených ako chybné (3) | G2: Chybovosť v % (4)
A3: od: | B3: =Obdobie!B2 -> 41456
A4: do: | B4: =Obdobie!B3 -> 41639
A5: Nadlimitné | C5: 2 | D5: 939232.5 | E5: 0 | F5: 0 | G5: =ROUND(F5/(D5/100),2) -> 0
A6: Podlimitné | C6: 6 | D6: 3912338.3 | E6: 0 | F6: 0 | G6: =ROUND(F6/(D6/100),2) -> 0
A7: Podprahové | C7: 12 | D7: 986210.5 | E7: 0 | F7: 0 | G7: =ROUND(F7/(D7/100),2) -> 0
A8: Nízka hodnota | C8: 112 | D8: 452438.05 | E8: 1 | F8: 9450.76 | G8: =ROUND(F8/(D8/100),2) -> 2.09
A9: Celkom | C9: =SUM(C5:C8) -> 132 | D9: =SUM(D5:D8) -> 6290219.3 | E9: =SUM(E5:E8) -> 1 | F9: =SUM(F5:F8) -> 9450.76 | G9: =ROUND(F9/(D9/100),2) -> 0.15
A11: Vysvetlivky k údajom v tabuľke:
A12: (1) | B12: - celková finančná hodnota všetkých verejných obstarávaní (zákaziek), ktoré boli overované (bol vydaný záznam z administratívnej kontroly verejného obstarávania), bez 1:1048576DPH, pričom sa uvádza cena predložená uchádzačom, ktorý bol označený ako úspešný uchádzač; v prípade výkonu administratívnej kontroly toho istého postupu verejného obstarávania pred podpisom zmluvy s úspešným uchádzačom, ako aj po podpise zmluvy s úspešným uchádzačom na ten istý predmet zákazky sa do celkovej hodnoty, ako aj do celkového počtu overovaných 'Audity EÚ územná spolupr'!B11:G11 takáto zákazka započítava len jeden krát
A13: (2) | B13: - počet verejných obstarávaní (zákaziek), pri ktorých bolo identifikované porušenie zákona o verejnom obstarávaní
A14: (3) | B14: - celková finančná hodnota verejných obstarávaní (zákaziek) bez DPH, pri ktorých bolo identifikované porušenie zákona o verejnom obstarávaní, a ktoré boli vylúčené z financovania alebo bola udelená korekcia
A15: (4) | B15: - (3) / (1) (hodnota uvedená v %, zaokrúhlená na 2 desatinné miesta), pričom sa uvádza percentuálny podiel chybovosti z hľadiska objemu finančných prostriedkov, nie z hľadiska početnosti prípadov

Sheet Audity OP Poľsko-SR
A1: Cezhraničná spolupráca Poľsko - SR - audit operácií
A2: Sledované obdobie | C2: Celkový počet overených zákaziek | D2: Celková hodnota overených zákaziek v EUR (1) | E2: Počet zákaziek označených ako chybné (2) | F2: Celková hodnota zákaziek označených ako chybné (3) | G2: Chybovosť v % (4)
A3: od: | B3: =Obdobie!B2 -> 41456
A4: do: | B4: =Obdobie!B3 -> 41639
A5: Nadlimitné | C5: 0 | D5: 0 | E5: 0 | F5: 0 | G5: 0
A6: Podlimitné | C6: 4 | D6: 3926562.8 | E6: 0 | F6: 0 | G6: =ROUND(F6/(D6/100),2) -> 0
A7: Podprahové | C7: 4 | D7: 546997.6 | E7: 0 | F7: 0 | G7: =ROUND(F7/(D7/100),2) -> 0
A8: Nízka hodnota | C8: 22 | D8: 85115.33 | E8: 0 | F8: 0 | G8: =ROUND(F8/(D8/100),2) -> 0
A9: Celkom | C9: =SUM(C5:C8) -> 30 | D9: =SUM(D5:D8) -> 4558675.8 | E9: =SUM(E5:E8) -> 0 | F9: =SUM(F5:F8) -> 0 | G9: =ROUND(F9/(D9/100),2) -> 0
A11: Vysvetlivky k údajom v tabuľke:
A12: (1) | B12: - celková finančná hodnota všetkých verejných obstarávaní (zákaziek), ktoré boli overované (bol vydaný záznam z administratívnej kontroly verejného obstarávania), bez 1:1048576DPH, pričom sa uvádza cena predložená uchádzačom, ktorý bol označený ako úspešný uchádzač; v prípade výkonu administratívnej kontroly toho istého postupu verejného obstarávania pred podpisom zmluvy s úspešným uchádzačom, ako aj po podpise zmluvy s úspešným uchádzačom na ten istý predmet zákazky sa do celkovej hodnoty, ako aj do celkového počtu overovaných 'Audity EÚ územná spolupr'!B11:G11 takáto zákazka započítava len jeden krát
A13: (2) | B13: - počet verejných obstarávaní (zákaziek), pri ktorých bolo identifikované porušenie zákona o verejnom obstarávaní
A14: (3) | B14: - celková finančná hodnota verejných obstarávaní (zákaziek) bez DPH, pri ktorých bolo identifikované porušenie zákona o verejnom obstarávaní, a ktoré boli vylúčené z financovania alebo bola udelená korekcia
A15: (4) | B15: - (3) / (1) (hodnota uvedená v %, zaokrúhlená na 2 desatinné miesta), pričom sa uvádza percentuálny podiel chybovosti z hľadiska objemu finančných prostriedkov, nie z hľadiska početnosti prípadov

Sheet Audity INTERACT
A1: Vládne audity Operačného programu INTERACT II 2007 – 2013
A2: Sledované obdobie | C2: Celkový počet overených zákaziek | D2: Celková hodnota overených zákaziek v EUR (1) | E2: Počet zákaziek označených ako chybné (2) | F2: Celková hodnota zákaziek označených ako chybné (3) | G2: Chybovosť v % (4)
A3: od: | B3: =Obdobie!B2 -> 41456
A4: do: | B4: =Obdobie!B3 -> 41639
A5: Nadlimitné | C5: 1 | D5: 679970.42 | E5: 0 | F5: 0 | G5: =ROUND(F5/(D5/100),2) -> 0
A6: Podlimitné | C6: 0 | D6: 0 | E6: 0 | F6: 0 | G6: 0
A7: Podprahové | C7: 1 | D7: 66388 | E7: 0 | F7: 0 | G7: =ROUND(F7/(D7/100),2) -> 0
A8: Nízka hodnota | C8: 50 | D8: 75048.02 | E8: 0 | F8: 0 | G8: =ROUND(F8/(D8/100),2) -> 0
A9: Celkom | C9: =SUM(C5:C8) -> 52 | D9: =SUM(D5:D8) -> 821406.44 | E9: =SUM(E5:E8) -> 0 | F9: =SUM(F5:F8) -> 0 | G9: =ROUND(F9/(D9/100),2) -> 0
A11: Vysvetlivky k údajom v tabuľke:
A12: (1) | B12: - celková finančná hodnota všetkých verejných obstarávaní (zákaziek), ktoré boli overované (bol vydaný záznam z administratívnej kontroly verejného obstarávania), bez DPH, pričom sa uvádza cena predložená uchádzačom, ktorý bol označený ako úspešný uchádzač; v prípade výkonu administratívnej kontroly toho istého postupu verejného obstarávania pred podpisom zmluvy s úspešným uchádzačom, ako aj po podpise zmluvy s úspešným uchádzačom na ten istý predmet zákazky sa do celkovej hodnoty, ako aj do celkového počtu overovaných zákaziek takáto zákazka započítava len jeden krát
A13: (2) | B13: - počet verejných obstarávaní (zákaziek), pri ktorých bolo identifikované porušenie zákona o verejnom obstarávaní
A14: (3) | B14: - celková finančná hodnota verejných obstarávaní (zákaziek) bez DPH, pri ktorých bolo identifikované porušenie zákona o verejnom obstarávaní, a ktoré boli vylúčené z financovania alebo bola udelená korekcia
A15: (4) | B15: - (3) / (1) (hodnota uvedená v %, zaokrúhlená na 2 desatinné miesta), pričom sa uvádza percentuálny podiel chybovosti z hľadiska objemu finančných prostriedkov, nie z hľadiska početnosti prípadov

Sheet Audity Rybné hosp
A1: Vládne audity Operačného programu Rybné hospodárstvo Slovenskej republiky 2007 – 2013
A2: Sledované obdobie | C2: Celkový počet overených zákaziek | D2: Celková hodnota overených zákaziek v EUR (1) | E2: Počet zákaziek označených ako chybné (2) | F2: Celková hodnota zákaziek označených ako chybné (3) | G2: Chybovosť v % (4)
A3: od: | B3: =Obdobie!B2 -> 41456
A4: do: | B4: =Obdobie!B3 -> 41639
A5: Nadlimitné | C5: 0 | D5: 0 | E5: 0 | F5: 0 | G5: 0
A6: Podlimitné | C6: 0 | D6: 0 | E6: 0 | F6: 0 | G6: 0
A7: Podprahové | C7: 1 | D7: 191474.05 | E7: 0 | F7: 0 | G7: =ROUND(F7/(D7/100),2) -> 0
A8: Nízka hodnota | C8: 2 | D8: 72035.68 | E8: 0 | F8: 0 | G8: =ROUND(F8/(D8/100),2) -> 0
A9: Celkom | C9: =SUM(C5:C8) -> 3 | D9: =SUM(D5:D8) -> 263509.73 | E9: =SUM(E5:E8) -> 0 | F9: =SUM(F5:F8) -> 0 | G9: =ROUND(F9/(D9/100),2) -> 0
A11: Vysvetlivky k údajom v tabuľke:
A12: (1) | B12: - celková finančná hodnota všetkých verejných obstarávaní (zákaziek), ktoré boli overované (bol vydaný záznam z administratívnej kontroly verejného obstarávania), bez 1:1048576DPH, pričom sa uvádza cena predložená uchádzačom, ktorý bol označený ako úspešný uchádzač; v prípade výkonu administratívnej kontroly toho istého postupu verejného obstarávania pred podpisom zmluvy s úspešným uchádzačom, ako aj po podpise zmluvy s úspešným uchádzačom na ten istý predmet zákazky sa do celkovej hodnoty, ako aj do celkového počtu overovaných 'Audity EÚ územná spolupr'!B11:G11 takáto zákazka započítava len jeden krát
A13: (2) | B13: - počet verejných obstarávaní (zákaziek), pri ktorých bolo identifikované porušenie zákona o verejnom obstarávaní
A14: (3) | B14: - celková finančná hodnota verejných obstarávaní (zákaziek) bez DPH, pri ktorých bolo identifikované porušenie zákona o verejnom obstarávaní, a ktoré boli vylúčené z financovania alebo bola udelená korekcia
A15: (4) | B15: - (3) / (1) (hodnota uvedená v %, zaokrúhlená na 2 desatinné miesta), pričom sa uvádza percentuálny podiel chybovosti z hľadiska objemu finančných prostriedkov, nie z hľadiska početnosti prípadov
